{"text_format":"2","workbook":"xlsx","n_sheets":2,"sheets":["备料计划录入信息表","备料计划控制表"],"not_rendered":{"charts":0,"images":0,"macros":0,"external_links":4,"defined_names":0,"comments":0,"pivot_tables":0},"unopened":[],"bounds":{"document_bytes":16777216,"sheet_cells":100000,"run_cost":"one","rows_first":2000,"rows_last":500,"rows_between":2000,"halvings":0,"cell_chars":16384,"cell_head_chars":4096},"cells_cut":0,"cells_raw":0,"read":"whole","date_system":"1900"}

{"sheet":"备料计划录入信息表","index":0,"n_rows":140,"n_cols":40,"rows_kept":140,"cut":false,"hidden":false,"merged":[[0,33,0,39],[0,17,0,19],[0,23,0,26],[0,20,0,22]]}
["备料计信息表",null,null,null,"备料导入（工程部）",{"$nulls":12},"物资部",null,null,"供货商",null,null,"   库房",null,null,null,"     作业队",null,null,null,"作业队领料员",null,"  库房"]
["序号","项目部","备料计划编号","物资标识","物资名称","型号规格","质量标准技术要求","计量单位","备料数量","仓库预留","作业队1","作业队2","编制负责人","编制日期","录入日期","备注","进仓时间","采购数量","第1次采购","第2次采购","供货数量","第1次供货","第2次供货","库存1","已经入库数量","库房2","已经入库数量","作业队A用料1","作业队B用料1","作业队A用料2","作业队A第1次领料","作业队B第1次领料","作业队B第2次领料","已经出库数量","出库1","出库2","出库3","仓库1调拨1出库","仓库2调拨1入库","仓库1调拨2出库"]
[1,"深圳地铁1号线接触网改造项目部","JCW01-JCW-001","SFGS-000001","并联硬锚底座","DTL0124(300)","安装图册-8","套",600,300,100,200,"陈良军","2017-08-20","2017-08-29",null,"2018-01-13",600,100,9,109,100,9,100,109,9,9,19,9,10,3,3,3,9,3,3,3,3,3,3]
[2,"深圳地铁1号线接触网改造项目部","JCW01-JCW-001","SFGS-000002","250型馈线固定底座","DTL0906(H250)","安装图册-9","套",400,300,100,0,"陈良军","2017-08-20","2017-08-29",null,"2017-09-12",400,100,9,109,100,9,100,109,3,3,19,9,10,3,3,3,9,3,3,3,3,3,3]
[3,"深圳地铁1号线接触网改造项目部","JCW01-JCW-001","SFGS-000003","300型馈线固定底座","DTL0906(H300)","安装图册-9","套",600,300,100,200,"陈良军","2017-08-20","2017-08-29",null,"2018-01-21",600,100,9,109,100,9,100,109,3,3,19,9,10,3,3,3,9,3,3,3,3,3,3]
[4,"深圳地铁1号线接触网改造项目部","JCW01-JCW-001","SFGS-000004","300*660型馈线固定底座","DTL0906(H300*660)","安装图册-9","套",{"$nulls":4},"陈良军","2017-08-20","2017-08-29"]
[5,"深圳地铁1号线接触网改造项目部","JCW01-JCW-001","SFGS-000005","Z-7挂板","GB2327-85","技术规格书-3","套",{"$nulls":4},"陈良军","2017-08-20","2017-08-29"]
[6,"深圳地铁1号线接触网改造项目部","JCW01-JCW-001","SFGS-000006","P-7挂板","GB2327-85","技术规格书-3","套",{"$nulls":4},"陈良军","2017-08-20","2017-08-29"]
[7,"深圳地铁1号线接触网改造项目部","JCW01-JCW-001","SFGS-000007","P-16挂板","GB2327-85","技术规格书-3","套",{"$nulls":4},"陈良军","2017-08-20","2017-08-29"]
[8,"深圳地铁1号线接触网改造项目部","JCW01-JCW-001","SFGS-000008","D1型双联板","CJL42(D1)-98","安装图册-6","套",{"$nulls":4},"陈良军","2017-08-20","2017-08-29"]
[9,"深圳地铁1号线接触网改造项目部","JCW01-JCW-001","SFGS-000009","卡绝缘联板","DTL0121","安装图册-7","套",{"$nulls":4},"陈良军","2017-08-20","2017-08-29"]
[10,"深圳地铁1号线接触网改造项目部","JCW01-JCW-001","SFGS-000010","下锚绝缘子","XJ-1.5A","安装图册-1","套",{"$nulls":4},"陈良军","2017-08-20","2017-08-29"]
[11,"深圳地铁1号线接触网改造项目部","JCW01-JCW-001","SFGS-000011","D3型电连接线夹","CJL05(D3)-98","安装图册-4","套",{"$nulls":4},"陈良军","2017-08-20","2017-08-29"]
[12,"深圳地铁1号线接触网改造项目部","JCW01-JCW-001","SFGS-000012","D4型电连接线夹","CJL05(D4)-98","安装图册-4","套",{"$nulls":4},"陈良军","2017-08-20","2017-08-29"]
[13,"深圳地铁1号线接触网改造项目部","JCW01-JCW-001","SFGS-000013","直式接触线电连接线夹","CJL04(Z)-98","安装图册-3","套",{"$nulls":4},"陈良军","2017-08-20","2017-08-29"]
[14,"深圳地铁1号线接触网改造项目部","JCW01-JCW-001","SFGS-000014","三线馈线线夹","GDC19-98（改）","安装图册-12","套",{"$nulls":4},"陈良军","2017-08-20","2017-08-29"]
[15,"深圳地铁1号线接触网改造项目部","JCW01-JCW-001","SFGS-000015","双线等距线夹","GDC18-98","技术规格书-10","套",{"$nulls":4},"陈良军","2017-08-20","2017-08-29"]
[16,"深圳地铁1号线接触网改造项目部","JCW01-JCW-001","SFGS-000016","承力索终锚线夹","CJL27(T150)-98","安装图册-5","套",{"$nulls":4},"陈良军","2017-08-20","2017-08-29"]
[17,"深圳地铁1号线接触网改造项目部","JCW01-JCW-001","SFGS-000017","Z-10型挂板","GB2327-85","技术规格书-3","套",{"$nulls":4},"陈良军","2017-08-20","2017-08-29"]
[18,"深圳地铁1号线接触网改造项目部","JCW01-JCW-001","SFGS-000018","调整螺栓","CJL89AA","安装图册-13","套",{"$nulls":4},"陈良军","2017-08-20","2017-08-29"]
[19,"深圳地铁1号线接触网改造项目部","JCW01-JCW-001","SFGS-000019","合成绝缘棒","HJ-1.5M（红色）","安装图册-2","套",{"$nulls":4},"陈良军","2017-08-20","2017-08-29"]
[20,"深圳地铁1号线接触网改造项目部","JCW01-JCW-001","SFGS-000020","馈线支持座","DTL0141","安装图册-10","套",{"$nulls":4},"陈良军","2017-08-20","2017-08-29"]
[21,"深圳地铁1号线接触网改造项目部","JCW01-JCW-001","SFGS-000021","150mm2铜接线端子","DTG-185型/GB14315","技术规格书-3","套",{"$nulls":4},"陈良军","2017-08-20","2017-08-29"]
[22,"深圳地铁1号线接触网改造项目部","JCW01-JCW-001","SFGS-000022","400mm2铜接线端子","DTG-400型/GB14315","技术规格书-3","套",{"$nulls":4},"陈良军","2017-08-20","2017-08-29"]
[23,"深圳地铁1号线接触网改造项目部","JCW01-JCW-001","SFGS-000023","电缆抱箍","DTL0140","技术规格书-3","套",{"$nulls":4},"陈良军","2017-08-20","2017-08-29"]
[24,"深圳地铁1号线接触网改造项目部","JCW01-JCW-001","SFGS-000024","电缆固定架","GXJL25-99(该电缆固定架固定5根400mm2电缆，图纸中将33mm改为100mm，L=350mm)","安装图册-11","套",{"$nulls":4},"陈良军","2017-08-20","2017-08-29"]
[25,"深圳地铁1号线接触网改造项目部","JCW01-JCW-001","SFGS-000025","电缆固定架","GXJL25-99(该电缆固定架固定5根150mm2电缆，图纸中将33mm改为50mm，L=230mm)","安装图册-11","套",{"$nulls":4},"陈良军","2017-08-20","2017-08-29"]
[26,"深圳地铁1号线接触网改造项目部","JCW01-JCW-001","SFGS-000026","螺栓M16x60","GB5781-86","技术规格书-4","套",{"$nulls":4},"陈良军","2017-08-20","2017-08-29"]
[27,"深圳地铁1号线接触网改造项目部","JCW01-JCW-001","SFGS-000027","螺母 M16","GB6170-86","技术规格书-4","套",{"$nulls":4},"陈良军","2017-08-20","2017-08-29"]
[28,"深圳地铁1号线接触网改造项目部","JCW01-JCW-001","SFGS-000028","垫圈 16","GB95-85","技术规格书-4","套",{"$nulls":4},"陈良军","2017-08-20","2017-08-29"]
[29,"深圳地铁1号线接触网改造项目部","JCW01-JCW-001","SFGS-000029","垫圈 16","GB93-87","技术规格书-4","套",{"$nulls":4},"陈良军","2017-08-20","2017-08-29"]
[30,"深圳地铁1号线接触网改造项目部","JCW01-JCW-001","SFGS-000030","电缆固定卡","GXJL24-99","技术规格书-3","套",{"$nulls":4},"陈良军","2017-08-20","2017-08-29"]
[31,"深圳地铁1号线接触网改造项目部","JCW01-JCW-001","SFGS-000031","后扩底螺栓（含2个螺母、1个平垫圈、1个弹性垫圈）","M10","技术规格书-8","套",{"$nulls":4},"陈良军","2017-08-20","2017-08-29"]
[32,"深圳地铁1号线接触网改造项目部","JCW01-JCW-001","SFGS-000032","腕臂电缆扎带（刚扎带）","5*500","技术规格书-5","套",{"$nulls":4},"陈良军","2017-08-20","2017-08-29"]
[33,"深圳地铁1号线接触网改造项目部","JCW01-JCW-001","SFGS-000033","热缩管","Ф50","技术规格书-6","米",{"$nulls":4},"陈良军","2017-08-20","2017-08-29"]
[34,"深圳地铁1号线接触网改造项目部","JCW01-JCW-001","SFGS-000034","热缩管","Ф25","技术规格书-6","米",{"$nulls":4},"陈良军","2017-08-20","2017-08-29"]
[35,"深圳地铁1号线接触网改造项目部","JCW01-LB-001","SFGS-000035","工作服（冬季）","XL",null,"套",{"$nulls":4},"何乃伟","2017-08-25","2017-08-29"]
[36,"深圳地铁1号线接触网改造项目部","JCW01-LB-001","SFGS-000036","工作服（冬季）","XXL",null,"套",{"$nulls":4},"何乃伟","2017-08-25","2017-08-29"]
[37,"深圳地铁1号线接触网改造项目部","JCW01-LB-001","SFGS-000037","工作服（冬季）","XXXL",null,"套",{"$nulls":4},"何乃伟","2017-08-25","2017-08-29"]
[38,"深圳地铁1号线接触网改造项目部","JCW01-LB-001","SFGS-000038","安全帽","黄色",null,"顶",{"$nulls":4},"何乃伟","2017-08-25","2017-08-29"]
[39,"深圳地铁1号线接触网改造项目部","JCW01-LB-001","SFGS-000039","急救药箱","含常用药品",null,"个",{"$nulls":4},"何乃伟","2017-08-25","2017-08-29"]
[40,"深圳地铁1号线接触网改造项目部","JCW01-LB-001","SFGS-000040","雨衣",null,null,"个",{"$nulls":4},"何乃伟","2017-08-25","2017-08-29"]
[41,"深圳地铁1号线接触网改造项目部","JCW01-LB-001","SFGS-000041","雨靴",null,null,"双",{"$nulls":4},"何乃伟","2017-08-25","2017-08-29"]
[42,"深圳地铁1号线接触网改造项目部","JCW01-LB-001","SFGS-000042","强光手电",null,null,"个",{"$nulls":4},"何乃伟","2017-08-25","2017-08-29"]
[43,"深圳地铁11号线11307标项目部","SZDT11-LB-001","SFGS-000038","安全帽","黄色",null,"顶",{"$nulls":4},"何乃伟","2017-08-25","2017-08-29"]
[44,"深圳地铁11号线11307标项目部","SZDT11-LB-001","SFGS-000039","急救药箱","含常用药品",null,"个",{"$nulls":4},"何乃伟","2017-08-25","2017-08-29"]
[45,"深圳地铁11号线11307标项目部","SZDT11-LB-001","SFGS-000040","雨衣",null,null,"个",{"$nulls":4},"何乃伟","2017-08-25","2017-08-29"]
[46,"深圳地铁11号线11307标项目部","SZDT11-LB-001","SFGS-000041","雨靴",null,null,"双",{"$nulls":4},"何乃伟","2017-08-25","2017-08-29"]
[47,"深圳地铁11号线11307标项目部","SZDT11-LB-001","SFGS-000043","安全带","全身型",null,"套",{"$nulls":4},"何乃伟","2017-08-25","2017-08-29"]
[48,"深圳地铁11号线11307标项目部","SZDT11-LB-001","SFGS-000044","安全警示带","红白色",null,"卷",{"$nulls":4},"何乃伟","2017-08-25","2017-08-29"]
[49,"深圳地铁11号线11307标项目部","SZDT11-ZH-001","SFGS-000045","内外壁热镀锌钢管","DN150*4.5mm","技术规格书-1","米",{"$nulls":4},"陈良军","2017-08-28","2017-08-29"]
[50,"深圳地铁11号线11307标项目部","SZDT11-ZH-001","SFGS-000046","内外壁热镀锌钢管","DN100*4mm","技术规格书-1","米",{"$nulls":4},"陈良军","2017-08-28","2017-08-29"]
[51,"深圳地铁11号线11307标项目部","SZDT11-ZH-001","SFGS-000047","内外壁热镀锌钢管","DN80*4mm","技术规格书-1","米",{"$nulls":4},"陈良军","2017-08-28","2017-08-29"]
[52,"深圳地铁11号线11307标项目部","SZDT11-ZH-001","SFGS-000048","内外壁热镀锌钢管","DN65*4mm","技术规格书-1","米",{"$nulls":4},"陈良军","2017-08-28","2017-08-29"]
[53,"深圳地铁11号线11307标项目部","SZDT11-ZH-001","SFGS-000049","内外壁热镀锌钢管","DN50*3.8mm","技术规格书-1","米",{"$nulls":4},"陈良军","2017-08-28","2017-08-29"]
[54,"深圳地铁11号线11307标项目部","SZDT11-ZH-001","SFGS-000050","内外壁热镀锌钢管","DN40*3.5mm","技术规格书-1","米",{"$nulls":4},"陈良军","2017-08-28","2017-08-29"]
[55,"深圳地铁11号线11307标项目部","SZDT11-ZH-001","SFGS-000051","内外壁热镀锌钢管","DN32*3.5mm","技术规格书-1","米",{"$nulls":4},"陈良军","2017-08-28","2017-08-29"]
[56,"深圳地铁11号线11307标项目部","SZDT11-ZH-001","SFGS-000052","内外壁热镀锌钢管","DN25*3.2mm","技术规格书-1","米",{"$nulls":4},"陈良军","2017-08-28","2017-08-29"]
[57,"深圳地铁11号线11307标项目部","SZDT11-ZH-001","SFGS-000053","镀锌90°弯头","DN25","按照11号线之前标准","个",{"$nulls":4},"陈良军","2017-08-28","2017-08-29"]
[58,"深圳地铁11号线11307标项目部","SZDT11-ZH-001","SFGS-000054","镀锌90°弯头","DN32","按照11号线之前标准","个",{"$nulls":4},"陈良军","2017-08-28","2017-08-29"]
[59,"深圳地铁11号线11307标项目部","SZDT11-ZH-001","SFGS-000055","镀锌90°弯头","DN32*25","按照11号线之前标准","个",{"$nulls":4},"陈良军","2017-08-28","2017-08-29"]
[60,"深圳地铁11号线11307标项目部","SZDT11-ZH-001","SFGS-000056","镀锌90°弯头","DN40","按照11号线之前标准","个",{"$nulls":4},"陈良军","2017-08-28","2017-08-29"]
[61,"深圳地铁11号线11307标项目部","SZDT11-ZH-001","SFGS-000057","外丝直接","DN15","按照11号线之前标准","个",{"$nulls":4},"陈良军","2017-08-28","2017-08-29"]
[62,"深圳地铁11号线11307标项目部","SZDT11-ZH-001","SFGS-000058","外丝直接","DN25","按照11号线之前标准","个",{"$nulls":4},"陈良军","2017-08-28","2017-08-29"]
[63,"深圳地铁11号线11307标项目部","SZDT11-ZH-001","SFGS-000059","镀锌大小头","DN25*15","按照11号线之前标准","个",{"$nulls":4},"陈良军","2017-08-28","2017-08-29"]
[64,"深圳地铁11号线11307标项目部","SZDT11-ZH-001","SFGS-000060","镀锌大小头","DN25*20","按照11号线之前标准","个",{"$nulls":4},"陈良军","2017-08-28","2017-08-29"]
[65,"深圳地铁11号线11307标项目部","SZDT11-ZH-001","SFGS-000061","镀锌大小头","DN32*15","按照11号线之前标准","个",{"$nulls":4},"陈良军","2017-08-28","2017-08-29"]
[66,"深圳地铁11号线11307标项目部","SZDT11-ZH-001","SFGS-000062","镀锌大小头","DN32*20","按照11号线之前标准","个",{"$nulls":4},"陈良军","2017-08-28","2017-08-29"]
[67,"深圳地铁11号线11307标项目部","SZDT11-ZH-001","SFGS-000063","镀锌大小头","DN65*40","按照11号线之前标准","个",{"$nulls":4},"陈良军","2017-08-28","2017-08-29"]
[68,"深圳地铁11号线11307标项目部","SZDT11-ZH-001","SFGS-000064","镀锌三通","DN25*25*25","按照11号线之前标准","个",{"$nulls":4},"陈良军","2017-08-28","2017-08-29"]
[69,"深圳地铁11号线11307标项目部","SZDT11-ZH-001","SFGS-000065","镀锌三通","DN32*32*32","按照11号线之前标准","个",{"$nulls":4},"陈良军","2017-08-28","2017-08-29"]
[70,"深圳地铁11号线11307标项目部","SZDT11-ZH-001","SFGS-000066","镀锌三通","DN32*40*32","按照11号线之前标准","个",{"$nulls":4},"陈良军","2017-08-28","2017-08-29"]
[71,"深圳地铁11号线11307标项目部","SZDT11-ZH-001","SFGS-000067","镀锌三通","DN40*32*32","按照11号线之前标准","个",{"$nulls":4},"陈良军","2017-08-28","2017-08-29"]
[72,"深圳地铁11号线11307标项目部","SZDT11-ZH-001","SFGS-000068","镀锌三通","DN40*32*40","按照11号线之前标准","个",{"$nulls":4},"陈良军","2017-08-28","2017-08-29"]
[73,"深圳地铁11号线11307标项目部","SZDT11-ZH-001","SFGS-000069","镀锌三通","DN40*40*32","按照11号线之前标准","个",{"$nulls":4},"陈良军","2017-08-28","2017-08-29"]
[74,"深圳地铁11号线11307标项目部","SZDT11-ZH-001","SFGS-000070","镀锌三通","DN40*65*40","按照11号线之前标准","个",{"$nulls":4},"陈良军","2017-08-28","2017-08-29"]
[75,"深圳地铁11号线11307标项目部","SZDT11-ZH-001","SFGS-000071","镀锌三通","DN50*32*40","按照11号线之前标准","个",{"$nulls":4},"陈良军","2017-08-28","2017-08-29"]
[76,"深圳地铁11号线11307标项目部","SZDT11-ZH-001","SFGS-000072","镀锌三通","DN65*32*50","按照11号线之前标准","个",{"$nulls":4},"陈良军","2017-08-28","2017-08-29"]
[77,"深圳地铁11号线11307标项目部","SZDT11-ZH-001","SFGS-000073","镀锌三通","DN65*32*65","按照11号线之前标准","个",{"$nulls":4},"陈良军","2017-08-28","2017-08-29"]
[78,"深圳地铁11号线11307标项目部","SZDT11-ZH-001","SFGS-000074","镀锌三通","DN65*40*40","按照11号线之前标准","个",{"$nulls":4},"陈良军","2017-08-28","2017-08-29"]
[79,"深圳地铁11号线11307标项目部","SZDT11-ZH-001","SFGS-000075","镀锌三通","DN65*40*65","按照11号线之前标准","个",{"$nulls":4},"陈良军","2017-08-28","2017-08-29"]
[80,"深圳地铁11号线11307标项目部","SZDT11-ZH-001","SFGS-000076","镀锌三通","DN80*32*65","按照11号线之前标准","个",{"$nulls":4},"陈良军","2017-08-28","2017-08-29"]
[81,"深圳地铁11号线11307标项目部","SZDT11-ZH-001","SFGS-000077","镀锌三通","DN80*32*80","按照11号线之前标准","个",{"$nulls":4},"陈良军","2017-08-28","2017-08-29"]
[82,"深圳地铁11号线11307标项目部","SZDT11-ZH-001","SFGS-000078","镀锌三通","DN80*40*65","按照11号线之前标准","个",{"$nulls":4},"陈良军","2017-08-28","2017-08-29"]
[83,"深圳地铁11号线11307标项目部","SZDT11-ZH-001","SFGS-000079","镀锌四通","DN80*40*65*40","按照11号线之前标准","个",{"$nulls":4},"陈良军","2017-08-28","2017-08-29"]
[84,"深圳地铁11号线11307标项目部","SZDT11-ZH-001","SFGS-000080","镀锌四通","DN80*40*80*40","按照11号线之前标准","个",{"$nulls":4},"陈良军","2017-08-28","2017-08-29"]
[85,"深圳地铁11号线11307标项目部","SZDT11-ZH-001","SFGS-000081","沟槽式三通","DN100*100*100","技术规格书-2","个",{"$nulls":4},"陈良军","2017-08-28","2017-08-29"]
[86,"深圳地铁11号线11307标项目部","SZDT11-ZH-001","SFGS-000082","沟槽式三通","DN150*150*150","技术规格书-2","个",{"$nulls":4},"陈良军","2017-08-28","2017-08-29"]
[87,"深圳地铁11号线11307标项目部","SZDT11-ZH-001","SFGS-000083","沟槽式四通","DN150*150*150*150","技术规格书-2","个",{"$nulls":4},"陈良军","2017-08-28","2017-08-29"]
[88,"深圳地铁11号线11307标项目部","SZDT11-ZH-001","SFGS-000084","沟槽式螺纹机械三通","DN100*40*100","技术规格书-2","个",{"$nulls":4},"陈良军","2017-08-28","2017-08-29"]
[89,"深圳地铁11号线11307标项目部","SZDT11-ZH-001","SFGS-000085","沟槽式螺纹机械三通","DN150*25*150","技术规格书-2","个",{"$nulls":4},"陈良军","2017-08-28","2017-08-29"]
[90,"深圳地铁11号线11307标项目部","SZDT11-ZH-001","SFGS-000086","沟槽式螺纹机械三通","DN150*32*150","技术规格书-2","个",{"$nulls":4},"陈良军","2017-08-28","2017-08-29"]
[91,"深圳地铁11号线11307标项目部","SZDT11-ZH-001","SFGS-000087","沟槽式螺纹机械三通","DN150*40*150","技术规格书-2","个",{"$nulls":4},"陈良军","2017-08-28","2017-08-29"]
[92,"深圳地铁11号线11307标项目部","SZDT11-ZH-001","SFGS-000088","沟槽式螺纹机械四通","DN100*40*100*40","技术规格书-2","个",{"$nulls":4},"陈良军","2017-08-28","2017-08-29"]
[93,"深圳地铁11号线11307标项目部","SZDT11-ZH-001","SFGS-000089","沟槽式螺纹机械四通","DN100*65*100*65","技术规格书-2","个",{"$nulls":4},"陈良军","2017-08-28","2017-08-29"]
[94,"深圳地铁11号线11307标项目部","SZDT11-ZH-001","SFGS-000090","沟槽式螺纹机械四通","DN100*80*100*80","技术规格书-2","个",{"$nulls":4},"陈良军","2017-08-28","2017-08-29"]
[95,"深圳地铁11号线11307标项目部","SZDT11-ZH-001","SFGS-000091","沟槽式螺纹机械四通","DN150*40*150*40","技术规格书-2","个",{"$nulls":4},"陈良军","2017-08-28","2017-08-29"]
[96,"深圳地铁11号线11307标项目部","SZDT11-ZH-001","SFGS-000092","沟槽式螺纹机械四通","DN150*65*150*65","技术规格书-2","个",{"$nulls":4},"陈良军","2017-08-28","2017-08-29"]
[97,"深圳地铁11号线11307标项目部","SZDT11-ZH-001","SFGS-000093","沟槽式螺纹机械四通","DN150*80*150*80","技术规格书-2","个",{"$nulls":4},"陈良军","2017-08-28","2017-08-29"]
[98,"深圳地铁11号线11307标项目部","SZDT11-ZH-001","SFGS-000094","沟槽式螺纹异径管箍","DN150*40","技术规格书-2","个",{"$nulls":4},"陈良军","2017-08-28","2017-08-29"]
[99,"深圳地铁11号线11307标项目部","SZDT11-ZH-001","SFGS-000095","沟槽式螺纹异径管箍","DN100*65","技术规格书-2","个",{"$nulls":4},"陈良军","2017-08-28","2017-08-29"]
[100,"深圳地铁11号线11307标项目部","SZDT11-ZH-001","SFGS-000096","沟槽式螺纹异径管箍","DN100*80","技术规格书-2","个",{"$nulls":4},"陈良军","2017-08-28","2017-08-29"]
[101,"深圳地铁11号线11307标项目部","SZDT11-ZH-001","SFGS-000097","沟槽式异径管箍","DN150*100","技术规格书-2","个",{"$nulls":4},"陈良军","2017-08-28","2017-08-29"]
[102,"深圳地铁11号线11307标项目部","SZDT11-ZH-001","SFGS-000098","沟槽式90°弯头","DN150","技术规格书-2","个",{"$nulls":4},"陈良军","2017-08-28","2017-08-29"]
[103,"深圳地铁11号线11307标项目部","SZDT11-ZH-001","SFGS-000099","沟槽法兰","DN150","技术规格书-2","个",{"$nulls":4},"陈良军","2017-08-28","2017-08-29"]
[104,"深圳地铁11号线11307标项目部","SZDT11-ZH-001","SFGS-000100","卡箍","DN100","技术规格书-2","个",{"$nulls":4},"陈良军","2017-08-28","2017-08-29"]
[105,"深圳地铁11号线11307标项目部","SZDT11-ZH-001","SFGS-000101","卡箍","DN150","技术规格书-2","个",{"$nulls":4},"陈良军","2017-08-28","2017-08-29"]
[106,"深圳地铁11号线11307标项目部","SZDT11-ZH-001","SFGS-000102","镀锌螺栓（配螺帽、一个弹簧垫、2个平垫）","M18*150","按照11号线之前标准","套",{"$nulls":4},"陈良军","2017-08-28","2017-08-29"]
[107,"深圳地铁11号线11307标项目部","SZDT11-ZH-001","SFGS-000103","法兰密封橡胶垫","DN150","按照11号线之前标准","个",{"$nulls":4},"陈良军","2017-08-28","2017-08-29"]
[108,"深圳地铁11号线11307标项目部","SZDT11-ZH-001","SFGS-000104","信号蝶阀","DN150","按照11号线之前标准","个",{"$nulls":4},"陈良军","2017-08-28","2017-08-29"]
[109,"深圳地铁11号线11307标项目部","SZDT11-ZH-001","SFGS-000105","水流指示器(马鞍形）","DN150","按照11号线之前标准","个",{"$nulls":4},"陈良军","2017-08-28","2017-08-29"]
[110,"深圳地铁11号线11307标项目部","SZDT11-ZH-001","SFGS-000106","球阀","DN15","按照11号线之前标准","个",{"$nulls":4},"陈良军","2017-08-28","2017-08-29"]
[111,"深圳地铁11号线11307标项目部","SZDT11-ZH-001","SFGS-000107","球阀","DN25","按照11号线之前标准","个",{"$nulls":4},"陈良军","2017-08-28","2017-08-29"]
[112,"深圳地铁11号线11307标项目部","SZDT11-ZH-001","SFGS-000108","球阀","DN20","按照11号线之前标准","个",{"$nulls":4},"陈良军","2017-08-28","2017-08-29"]
[113,"深圳地铁11号线11307标项目部","SZDT11-ZH-001","SFGS-000109","压力表","0-1.6MPa","按照11号线之前标准","个",{"$nulls":4},"陈良军","2017-08-28","2017-08-29"]
[114,"深圳地铁11号线11307标项目部","SZDT11-ZH-001","SFGS-000110","表弯","DN15","按照11号线之前标准","个",{"$nulls":4},"陈良军","2017-08-28","2017-08-29"]
[115,"深圳地铁11号线11307标项目部","SZDT11-ZH-001","SFGS-000111","自动排气阀","DN20","按照11号线之前标准","个",{"$nulls":4},"陈良军","2017-08-28","2017-08-29"]
[116,"深圳地铁11号线11307标项目部","SZDT11-ZH-001","SFGS-000112","直立型喷头","ZSTZ-15/68(K=80 DN15)","按照11号线之前标准","个",{"$nulls":4},"陈良军","2017-08-28","2017-08-29"]
[117,"深圳地铁11号线11307标项目部","SZDT11-ZH-001","SFGS-000113","直立型喷头","ZSTZ-20/68(K=115 DN20)","按照11号线之前标准","个",{"$nulls":4},"陈良军","2017-08-28","2017-08-29"]
[118,"深圳地铁11号线11307标项目部","SZDT11-ZH-001","SFGS-000114","大红油漆","13公斤/桶",null,"桶",{"$nulls":4},"陈良军","2017-08-28","2017-08-29"]
[119,"深圳地铁11号线11307标项目部","SZDT11-ZH-001","SFGS-000115","木跳板","2m(长）*5cm(厚）*20cm(宽）",null,"块",{"$nulls":4},"陈良军","2017-08-28","2017-08-29"]
[120,"深圳地铁11号线11307标项目部","SZDT11-ZH-001","SFGS-000116","铜内外丝直接","DN20",null,"个",{"$nulls":4},"陈良军","2017-08-28","2017-08-29"]
[121,"深圳地铁11号线11307标项目部","SZDT11-ZH-001","SFGS-000117","不锈钢扎带","1米/条（宽度：1cm;厚度：0.05mm)",null,"条",{"$nulls":4},"陈良军","2017-08-28","2017-08-29"]
[122,"深圳地铁11号线11307标项目部","SZDT11-ZH-001","SFGS-000118","不锈钢扎带","0.5米/条（宽度：1cm;厚度：0.05mm)",null,"条",{"$nulls":4},"陈良军","2017-08-28","2017-08-29"]
[123,"深圳地铁11号线11307标项目部","SZDT11-ZH-001","SFGS-000119","膨胀螺丝","M6*8",null,"盒",{"$nulls":4},"陈良军","2017-08-28","2017-08-29"]
[124,"深圳地铁11号线11307标项目部","SZDT11-ZH-001","SFGS-000120","板牙",null,null,"付",{"$nulls":4},"陈良军","2017-08-28","2017-08-29"]
[125,"深圳地铁11号线11307标项目部","SZDT11-ZH-001","SFGS-000121","电动球阀","BV03G2D32SA/220",null,"个",{"$nulls":4},"陈良军","2017-08-28","2017-08-29"]
[126,"深圳地铁11号线11307标项目部","SZDT11-ZH-001","SFGS-000122","铜线耳","240mm2（长）",null,"个",{"$nulls":4},"陈良军","2017-08-28","2017-08-29"]
[127,"深圳地铁11号线11307标项目部","SZDT11-ZH-001","SFGS-000123","铜线耳","240mm2（短）",null,"个",{"$nulls":4},"陈良军","2017-08-28","2017-08-29"]
[128,"深圳地铁11号线11307标项目部","SZDT11-ZH-001","SFGS-000124","铜线耳","120mm2（长）",null,"个",{"$nulls":4},"陈良军","2017-08-28","2017-08-29"]
[129,"深圳地铁11号线11307标项目部","SZDT11-ZH-001","SFGS-000125","铜线耳","120mm2（短）",null,"个",{"$nulls":4},"陈良军","2017-08-28","2017-08-29"]
[130,"深圳地铁11号线11307标项目部","SZDT11-ZH-001","SFGS-000126","PVC排水直接","Φ25",null,"个",{"$nulls":4},"陈良军","2017-08-28","2017-08-29"]
[131,"深圳地铁11号线11307标项目部","SZDT11-ZH-001","SFGS-000127","水泥",null,null,"包",{"$nulls":4},"陈良军","2017-08-28","2017-08-29"]
[132,"深圳地铁11号线11307标项目部","SZDT11-ZH-001","SFGS-000128","橡塑保温板材","厚度25mm（容重48kg/m3)","技术规格书-3","平方",{"$nulls":4},"陈良军","2017-08-28","2017-08-29"]
[133,"深圳地铁11号线11307标项目部","SZDT11-ZH-001","SFGS-000129","铝箔胶带",null,null,"卷",{"$nulls":4},"陈良军","2017-08-28","2017-08-29"]
[134,"深圳地铁11号线11307标项目部","SZDT11-ZH-001","SFGS-000130","镀锌线管直接","Φ25",null,"个",{"$nulls":4},"陈良军","2017-08-28","2017-08-29"]
[135,"深圳地铁11号线11307标项目部","SZDT11-ZH-001","SFGS-000131","离墙码","Φ25",null,"个",{"$nulls":4},"陈良军","2017-08-28","2017-08-29"]
[136,"深圳地铁11号线11307标项目部","SZDT11-ZH-001","SFGS-000132","六角钻尾螺丝","3cm长",null,"包",{"$nulls":4},"陈良军","2017-08-28","2017-08-29"]
[137,"深圳地铁11号线11307标项目部","SZDT11-ZH-001","SFGS-000133","玻璃胶（白色）",null,null,"支",{"$nulls":4},"陈良军","2017-08-28","2017-08-29"]
[138,"深圳地铁11号线11307标项目部","SZDT11-ZH-001","SFGS-000134","毛巾",null,null,"条",{"$nulls":4},"陈良军","2017-08-28","2017-08-29"]

{"sheet":"备料计划控制表","index":1,"n_rows":140,"n_cols":12,"rows_kept":140,"cut":false,"hidden":false,"merged":[]}
["备料计划控制表",null,"注：物资明细由备料计划录入信息表合并同类项得来，此表查询备料计划执行情况。可查看备料是否有合同，是否下供货通知，是否到货，是否发货"]
["序号","物资名称","型号规格","物资标识","质量标准技术要求","计量单位","备料计划数量","合同数量","供货通知单数量","到货数量","发出数量","备注"]
[1,"并联硬锚底座","DTL0124(300)","SFGS-000001","安装图册-8","套",{"$f":"SUMIF(备料计划录入信息表!D:D,备料计划控制表!D3,备料计划录入信息表!I:I)","v":600},{"$f":"SUMIF([1]合同录入信息表!$E:$E,D3,[1]合同录入信息表!$I:$I)","v":{"$error":"#VALUE!"}},{"$f":"SUMIF([2]供货通知录入信息表!$F:$F,D3,[2]供货通知录入信息表!$K:$K)","v":{"$error":"#VALUE!"}},{"$f":"SUMIF([3]签收明细表!$H:$H,D3,[3]签收明细表!$K:$K)","v":{"$error":"#VALUE!"}},{"$f":"SUMIF([4]领料录入信息表!$F:$F,D3,[4]领料录入信息表!$J:$J)","v":{"$error":"#VALUE!"}}]
[2,"250型馈线固定底座","DTL0906(H250)","SFGS-000002","安装图册-9","套",{"$f":"SUMIF(备料计划录入信息表!D:D,备料计划控制表!D4,备料计划录入信息表!I:I)","v":400},{"$f":"SUMIF([1]合同录入信息表!$E:$E,D4,[1]合同录入信息表!$I:$I)","v":{"$error":"#VALUE!"}},{"$f":"SUMIF([2]供货通知录入信息表!$F:$F,D4,[2]供货通知录入信息表!$K:$K)","v":{"$error":"#VALUE!"}},{"$f":"SUMIF([3]签收明细表!$H:$H,D4,[3]签收明细表!$K:$K)","v":{"$error":"#VALUE!"}},{"$f":"SUMIF([4]领料录入信息表!$F:$F,D4,[4]领料录入信息表!$J:$J)","v":{"$error":"#VALUE!"}}]
[3,"300型馈线固定底座","DTL0906(H300)","SFGS-000003","安装图册-9","套",{"$f":"SUMIF(备料计划录入信息表!D:D,备料计划控制表!D5,备料计划录入信息表!I:I)","v":600},{"$f":"SUMIF([1]合同录入信息表!$E:$E,D5,[1]合同录入信息表!$I:$I)","v":{"$error":"#VALUE!"}},{"$f":"SUMIF([2]供货通知录入信息表!$F:$F,D5,[2]供货通知录入信息表!$K:$K)","v":{"$error":"#VALUE!"}},{"$f":"SUMIF([3]签收明细表!$H:$H,D5,[3]签收明细表!$K:$K)","v":{"$error":"#VALUE!"}},{"$f":"SUMIF([4]领料录入信息表!$F:$F,D5,[4]领料录入信息表!$J:$J)","v":{"$error":"#VALUE!"}}]
[4,"300*660型馈线固定底座","DTL0906(H300*660)","SFGS-000004","安装图册-9","套",{"$f":"SUMIF(备料计划录入信息表!D:D,备料计划控制表!D6,备料计划录入信息表!I:I)","v":0},{"$f":"SUMIF([1]合同录入信息表!$E:$E,D6,[1]合同录入信息表!$I:$I)","v":{"$error":"#VALUE!"}},{"$f":"SUMIF([2]供货通知录入信息表!$F:$F,D6,[2]供货通知录入信息表!$K:$K)","v":{"$error":"#VALUE!"}},{"$f":"SUMIF([3]签收明细表!$H:$H,D6,[3]签收明细表!$K:$K)","v":{"$error":"#VALUE!"}},{"$f":"SUMIF([4]领料录入信息表!$F:$F,D6,[4]领料录入信息表!$J:$J)","v":{"$error":"#VALUE!"}}]
[5,"Z-7挂板","GB2327-85","SFGS-000005","技术规格书-3","套",{"$f":"SUMIF(备料计划录入信息表!D:D,备料计划控制表!D7,备料计划录入信息表!I:I)","v":0},{"$f":"SUMIF([1]合同录入信息表!$E:$E,D7,[1]合同录入信息表!$I:$I)","v":{"$error":"#VALUE!"}},{"$f":"SUMIF([2]供货通知录入信息表!$F:$F,D7,[2]供货通知录入信息表!$K:$K)","v":{"$error":"#VALUE!"}},{"$f":"SUMIF([3]签收明细表!$H:$H,D7,[3]签收明细表!$K:$K)","v":{"$error":"#VALUE!"}},{"$f":"SUMIF([4]领料录入信息表!$F:$F,D7,[4]领料录入信息表!$J:$J)","v":{"$error":"#VALUE!"}}]
[6,"P-7挂板","GB2327-85","SFGS-000006","技术规格书-3","套",{"$f":"SUMIF(备料计划录入信息表!D:D,备料计划控制表!D8,备料计划录入信息表!I:I)","v":0},{"$f":"SUMIF([1]合同录入信息表!$E:$E,D8,[1]合同录入信息表!$I:$I)","v":{"$error":"#VALUE!"}},{"$f":"SUMIF([2]供货通知录入信息表!$F:$F,D8,[2]供货通知录入信息表!$K:$K)","v":{"$error":"#VALUE!"}},{"$f":"SUMIF([3]签收明细表!$H:$H,D8,[3]签收明细表!$K:$K)","v":{"$error":"#VALUE!"}},{"$f":"SUMIF([4]领料录入信息表!$F:$F,D8,[4]领料录入信息表!$J:$J)","v":{"$error":"#VALUE!"}}]
[7," P-16挂板","GB2327-85","SFGS-000007","技术规格书-3","套",{"$f":"SUMIF(备料计划录入信息表!D:D,备料计划控制表!D9,备料计划录入信息表!I:I)","v":0},{"$f":"SUMIF([1]合同录入信息表!$E:$E,D9,[1]合同录入信息表!$I:$I)","v":{"$error":"#VALUE!"}},{"$f":"SUMIF([2]供货通知录入信息表!$F:$F,D9,[2]供货通知录入信息表!$K:$K)","v":{"$error":"#VALUE!"}},{"$f":"SUMIF([3]签收明细表!$H:$H,D9,[3]签收明细表!$K:$K)","v":{"$error":"#VALUE!"}},{"$f":"SUMIF([4]领料录入信息表!$F:$F,D9,[4]领料录入信息表!$J:$J)","v":{"$error":"#VALUE!"}}]
[8,"D1型双联板","CJL42(D1)-98","SFGS-000008","安装图册-6","套",{"$f":"SUMIF(备料计划录入信息表!D:D,备料计划控制表!D10,备料计划录入信息表!I:I)","v":0},{"$f":"SUMIF([1]合同录入信息表!$E:$E,D10,[1]合同录入信息表!$I:$I)","v":{"$error":"#VALUE!"}},{"$f":"SUMIF([2]供货通知录入信息表!$F:$F,D10,[2]供货通知录入信息表!$K:$K)","v":{"$error":"#VALUE!"}},{"$f":"SUMIF([3]签收明细表!$H:$H,D10,[3]签收明细表!$K:$K)","v":{"$error":"#VALUE!"}},{"$f":"SUMIF([4]领料录入信息表!$F:$F,D10,[4]领料录入信息表!$J:$J)","v":{"$error":"#VALUE!"}}]
[9,"卡绝缘联板","DTL0121","SFGS-000009","安装图册-7","套",{"$f":"SUMIF(备料计划录入信息表!D:D,备料计划控制表!D11,备料计划录入信息表!I:I)","v":0},{"$f":"SUMIF([1]合同录入信息表!$E:$E,D11,[1]合同录入信息表!$I:$I)","v":{"$error":"#VALUE!"}},{"$f":"SUMIF([2]供货通知录入信息表!$F:$F,D11,[2]供货通知录入信息表!$K:$K)","v":{"$error":"#VALUE!"}},{"$f":"SUMIF([3]签收明细表!$H:$H,D11,[3]签收明细表!$K:$K)","v":{"$error":"#VALUE!"}},{"$f":"SUMIF([4]领料录入信息表!$F:$F,D11,[4]领料录入信息表!$J:$J)","v":{"$error":"#VALUE!"}}]
[10,"下锚绝缘子","XJ-1.5A","SFGS-000010","安装图册-1","套",{"$f":"SUMIF(备料计划录入信息表!D:D,备料计划控制表!D12,备料计划录入信息表!I:I)","v":0},{"$f":"SUMIF([1]合同录入信息表!$E:$E,D12,[1]合同录入信息表!$I:$I)","v":{"$error":"#VALUE!"}},{"$f":"SUMIF([2]供货通知录入信息表!$F:$F,D12,[2]供货通知录入信息表!$K:$K)","v":{"$error":"#VALUE!"}},{"$f":"SUMIF([3]签收明细表!$H:$H,D12,[3]签收明细表!$K:$K)","v":{"$error":"#VALUE!"}},{"$f":"SUMIF([4]领料录入信息表!$F:$F,D12,[4]领料录入信息表!$J:$J)","v":{"$error":"#VALUE!"}}]
[11,"D3型电连接线夹","CJL05(D3)-98","SFGS-000011","安装图册-4","套",{"$f":"SUMIF(备料计划录入信息表!D:D,备料计划控制表!D13,备料计划录入信息表!I:I)","v":0},{"$f":"SUMIF([1]合同录入信息表!$E:$E,D13,[1]合同录入信息表!$I:$I)","v":{"$error":"#VALUE!"}},{"$f":"SUMIF([2]供货通知录入信息表!$F:$F,D13,[2]供货通知录入信息表!$K:$K)","v":{"$error":"#VALUE!"}},{"$f":"SUMIF([3]签收明细表!$H:$H,D13,[3]签收明细表!$K:$K)","v":{"$error":"#VALUE!"}},{"$f":"SUMIF([4]领料录入信息表!$F:$F,D13,[4]领料录入信息表!$J:$J)","v":{"$error":"#VALUE!"}}]
[12,"D4型电连接线夹","CJL05(D4)-98","SFGS-000012","安装图册-4","套",{"$f":"SUMIF(备料计划录入信息表!D:D,备料计划控制表!D14,备料计划录入信息表!I:I)","v":0},{"$f":"SUMIF([1]合同录入信息表!$E:$E,D14,[1]合同录入信息表!$I:$I)","v":{"$error":"#VALUE!"}},{"$f":"SUMIF([2]供货通知录入信息表!$F:$F,D14,[2]供货通知录入信息表!$K:$K)","v":{"$error":"#VALUE!"}},{"$f":"SUMIF([3]签收明细表!$H:$H,D14,[3]签收明细表!$K:$K)","v":{"$error":"#VALUE!"}},{"$f":"SUMIF([4]领料录入信息表!$F:$F,D14,[4]领料录入信息表!$J:$J)","v":{"$error":"#VALUE!"}}]
[13,"直式接触线电连接线夹","CJL04(Z)-98","SFGS-000013","安装图册-3","套",{"$f":"SUMIF(备料计划录入信息表!D:D,备料计划控制表!D15,备料计划录入信息表!I:I)","v":0},{"$f":"SUMIF([1]合同录入信息表!$E:$E,D15,[1]合同录入信息表!$I:$I)","v":{"$error":"#VALUE!"}},{"$f":"SUMIF([2]供货通知录入信息表!$F:$F,D15,[2]供货通知录入信息表!$K:$K)","v":{"$error":"#VALUE!"}},{"$f":"SUMIF([3]签收明细表!$H:$H,D15,[3]签收明细表!$K:$K)","v":{"$error":"#VALUE!"}},{"$f":"SUMIF([4]领料录入信息表!$F:$F,D15,[4]领料录入信息表!$J:$J)","v":{"$error":"#VALUE!"}}]
[14,"三线馈线线夹","GDC19-98（改）","SFGS-000014","安装图册-12","套",{"$f":"SUMIF(备料计划录入信息表!D:D,备料计划控制表!D16,备料计划录入信息表!I:I)","v":0},{"$f":"SUMIF([1]合同录入信息表!$E:$E,D16,[1]合同录入信息表!$I:$I)","v":{"$error":"#VALUE!"}},{"$f":"SUMIF([2]供货通知录入信息表!$F:$F,D16,[2]供货通知录入信息表!$K:$K)","v":{"$error":"#VALUE!"}},{"$f":"SUMIF([3]签收明细表!$H:$H,D16,[3]签收明细表!$K:$K)","v":{"$error":"#VALUE!"}},{"$f":"SUMIF([4]领料录入信息表!$F:$F,D16,[4]领料录入信息表!$J:$J)","v":{"$error":"#VALUE!"}}]
[15,"双线等距线夹","GDC18-98","SFGS-000015","技术规格书-10","套",{"$f":"SUMIF(备料计划录入信息表!D:D,备料计划控制表!D17,备料计划录入信息表!I:I)","v":0},{"$f":"SUMIF([1]合同录入信息表!$E:$E,D17,[1]合同录入信息表!$I:$I)","v":{"$error":"#VALUE!"}},{"$f":"SUMIF([2]供货通知录入信息表!$F:$F,D17,[2]供货通知录入信息表!$K:$K)","v":{"$error":"#VALUE!"}},{"$f":"SUMIF([3]签收明细表!$H:$H,D17,[3]签收明细表!$K:$K)","v":{"$error":"#VALUE!"}},{"$f":"SUMIF([4]领料录入信息表!$F:$F,D17,[4]领料录入信息表!$J:$J)","v":{"$error":"#VALUE!"}}]
[16,"承力索终锚线夹","CJL27(T150)-98","SFGS-000016","安装图册-5","套",{"$f":"SUMIF(备料计划录入信息表!D:D,备料计划控制表!D18,备料计划录入信息表!I:I)","v":0},{"$f":"SUMIF([1]合同录入信息表!$E:$E,D18,[1]合同录入信息表!$I:$I)","v":{"$error":"#VALUE!"}},{"$f":"SUMIF([2]供货通知录入信息表!$F:$F,D18,[2]供货通知录入信息表!$K:$K)","v":{"$error":"#VALUE!"}},{"$f":"SUMIF([3]签收明细表!$H:$H,D18,[3]签收明细表!$K:$K)","v":{"$error":"#VALUE!"}},{"$f":"SUMIF([4]领料录入信息表!$F:$F,D18,[4]领料录入信息表!$J:$J)","v":{"$error":"#VALUE!"}}]
[17,"Z-10型挂板","GB2327-85","SFGS-000017","技术规格书-3","套",{"$f":"SUMIF(备料计划录入信息表!D:D,备料计划控制表!D19,备料计划录入信息表!I:I)","v":0},{"$f":"SUMIF([1]合同录入信息表!$E:$E,D19,[1]合同录入信息表!$I:$I)","v":{"$error":"#VALUE!"}},{"$f":"SUMIF([2]供货通知录入信息表!$F:$F,D19,[2]供货通知录入信息表!$K:$K)","v":{"$error":"#VALUE!"}},{"$f":"SUMIF([3]签收明细表!$H:$H,D19,[3]签收明细表!$K:$K)","v":{"$error":"#VALUE!"}},{"$f":"SUMIF([4]领料录入信息表!$F:$F,D19,[4]领料录入信息表!$J:$J)","v":{"$error":"#VALUE!"}}]
[18,"调整螺栓","CJL89AA","SFGS-000018","安装图册-13","套",{"$f":"SUMIF(备料计划录入信息表!D:D,备料计划控制表!D20,备料计划录入信息表!I:I)","v":0},{"$f":"SUMIF([1]合同录入信息表!$E:$E,D20,[1]合同录入信息表!$I:$I)","v":{"$error":"#VALUE!"}},{"$f":"SUMIF([2]供货通知录入信息表!$F:$F,D20,[2]供货通知录入信息表!$K:$K)","v":{"$error":"#VALUE!"}},{"$f":"SUMIF([3]签收明细表!$H:$H,D20,[3]签收明细表!$K:$K)","v":{"$error":"#VALUE!"}},{"$f":"SUMIF([4]领料录入信息表!$F:$F,D20,[4]领料录入信息表!$J:$J)","v":{"$error":"#VALUE!"}}]
[19,"合成绝缘棒","HJ-1.5M（红色）","SFGS-000019","安装图册-2","套",{"$f":"SUMIF(备料计划录入信息表!D:D,备料计划控制表!D21,备料计划录入信息表!I:I)","v":0},{"$f":"SUMIF([1]合同录入信息表!$E:$E,D21,[1]合同录入信息表!$I:$I)","v":{"$error":"#VALUE!"}},{"$f":"SUMIF([2]供货通知录入信息表!$F:$F,D21,[2]供货通知录入信息表!$K:$K)","v":{"$error":"#VALUE!"}},{"$f":"SUMIF([3]签收明细表!$H:$H,D21,[3]签收明细表!$K:$K)","v":{"$error":"#VALUE!"}},{"$f":"SUMIF([4]领料录入信息表!$F:$F,D21,[4]领料录入信息表!$J:$J)","v":{"$error":"#VALUE!"}}]
[20,"馈线支持座","DTL0141","SFGS-000020","安装图册-10","套",{"$f":"SUMIF(备料计划录入信息表!D:D,备料计划控制表!D22,备料计划录入信息表!I:I)","v":0},{"$f":"SUMIF([1]合同录入信息表!$E:$E,D22,[1]合同录入信息表!$I:$I)","v":{"$error":"#VALUE!"}},{"$f":"SUMIF([2]供货通知录入信息表!$F:$F,D22,[2]供货通知录入信息表!$K:$K)","v":{"$error":"#VALUE!"}},{"$f":"SUMIF([3]签收明细表!$H:$H,D22,[3]签收明细表!$K:$K)","v":{"$error":"#VALUE!"}},{"$f":"SUMIF([4]领料录入信息表!$F:$F,D22,[4]领料录入信息表!$J:$J)","v":{"$error":"#VALUE!"}}]
[21,"150mm2铜接线端子","DTG-185型/GB14315","SFGS-000021","技术规格书-3","套",{"$f":"SUMIF(备料计划录入信息表!D:D,备料计划控制表!D23,备料计划录入信息表!I:I)","v":0},{"$f":"SUMIF([1]合同录入信息表!$E:$E,D23,[1]合同录入信息表!$I:$I)","v":{"$error":"#VALUE!"}},{"$f":"SUMIF([2]供货通知录入信息表!$F:$F,D23,[2]供货通知录入信息表!$K:$K)","v":{"$error":"#VALUE!"}},{"$f":"SUMIF([3]签收明细表!$H:$H,D23,[3]签收明细表!$K:$K)","v":{"$error":"#VALUE!"}},{"$f":"SUMIF([4]领料录入信息表!$F:$F,D23,[4]领料录入信息表!$J:$J)","v":{"$error":"#VALUE!"}}]
[22,"400mm2铜接线端子","DTG-400型/GB14315","SFGS-000022","技术规格书-3","套",{"$f":"SUMIF(备料计划录入信息表!D:D,备料计划控制表!D24,备料计划录入信息表!I:I)","v":0},{"$f":"SUMIF([1]合同录入信息表!$E:$E,D24,[1]合同录入信息表!$I:$I)","v":{"$error":"#VALUE!"}},{"$f":"SUMIF([2]供货通知录入信息表!$F:$F,D24,[2]供货通知录入信息表!$K:$K)","v":{"$error":"#VALUE!"}},{"$f":"SUMIF([3]签收明细表!$H:$H,D24,[3]签收明细表!$K:$K)","v":{"$error":"#VALUE!"}},{"$f":"SUMIF([4]领料录入信息表!$F:$F,D24,[4]领料录入信息表!$J:$J)","v":{"$error":"#VALUE!"}}]
[23,"电缆抱箍","DTL0140","SFGS-000023","技术规格书-3","套",{"$f":"SUMIF(备料计划录入信息表!D:D,备料计划控制表!D25,备料计划录入信息表!I:I)","v":0},{"$f":"SUMIF([1]合同录入信息表!$E:$E,D25,[1]合同录入信息表!$I:$I)","v":{"$error":"#VALUE!"}},{"$f":"SUMIF([2]供货通知录入信息表!$F:$F,D25,[2]供货通知录入信息表!$K:$K)","v":{"$error":"#VALUE!"}},{"$f":"SUMIF([3]签收明细表!$H:$H,D25,[3]签收明细表!$K:$K)","v":{"$error":"#VALUE!"}},{"$f":"SUMIF([4]领料录入信息表!$F:$F,D25,[4]领料录入信息表!$J:$J)","v":{"$error":"#VALUE!"}}]
[24,"电缆固定架","GXJL25-99(该电缆固定架固定5根400mm2电缆，图纸中将33mm改为100mm，L=350mm)","SFGS-000024","安装图册-11","套",{"$f":"SUMIF(备料计划录入信息表!D:D,备料计划控制表!D26,备料计划录入信息表!I:I)","v":0},{"$f":"SUMIF([1]合同录入信息表!$E:$E,D26,[1]合同录入信息表!$I:$I)","v":{"$error":"#VALUE!"}},{"$f":"SUMIF([2]供货通知录入信息表!$F:$F,D26,[2]供货通知录入信息表!$K:$K)","v":{"$error":"#VALUE!"}},{"$f":"SUMIF([3]签收明细表!$H:$H,D26,[3]签收明细表!$K:$K)","v":{"$error":"#VALUE!"}},{"$f":"SUMIF([4]领料录入信息表!$F:$F,D26,[4]领料录入信息表!$J:$J)","v":{"$error":"#VALUE!"}}]
[25,"电缆固定架","GXJL25-99(该电缆固定架固定5根150mm2电缆，图纸中将33mm改为50mm，L=230mm)","SFGS-000025","安装图册-11","套",{"$f":"SUMIF(备料计划录入信息表!D:D,备料计划控制表!D27,备料计划录入信息表!I:I)","v":0},{"$f":"SUMIF([1]合同录入信息表!$E:$E,D27,[1]合同录入信息表!$I:$I)","v":{"$error":"#VALUE!"}},{"$f":"SUMIF([2]供货通知录入信息表!$F:$F,D27,[2]供货通知录入信息表!$K:$K)","v":{"$error":"#VALUE!"}},{"$f":"SUMIF([3]签收明细表!$H:$H,D27,[3]签收明细表!$K:$K)","v":{"$error":"#VALUE!"}},{"$f":"SUMIF([4]领料录入信息表!$F:$F,D27,[4]领料录入信息表!$J:$J)","v":{"$error":"#VALUE!"}}]
[26,"螺栓M16x60","GB5781-86","SFGS-000026","技术规格书-4","套",{"$f":"SUMIF(备料计划录入信息表!D:D,备料计划控制表!D28,备料计划录入信息表!I:I)","v":0},{"$f":"SUMIF([1]合同录入信息表!$E:$E,D28,[1]合同录入信息表!$I:$I)","v":{"$error":"#VALUE!"}},{"$f":"SUMIF([2]供货通知录入信息表!$F:$F,D28,[2]供货通知录入信息表!$K:$K)","v":{"$error":"#VALUE!"}},{"$f":"SUMIF([3]签收明细表!$H:$H,D28,[3]签收明细表!$K:$K)","v":{"$error":"#VALUE!"}},{"$f":"SUMIF([4]领料录入信息表!$F:$F,D28,[4]领料录入信息表!$J:$J)","v":{"$error":"#VALUE!"}}]
[27,"螺母 M16","GB6170-86","SFGS-000027","技术规格书-4","套",{"$f":"SUMIF(备料计划录入信息表!D:D,备料计划控制表!D29,备料计划录入信息表!I:I)","v":0},{"$f":"SUMIF([1]合同录入信息表!$E:$E,D29,[1]合同录入信息表!$I:$I)","v":{"$error":"#VALUE!"}},{"$f":"SUMIF([2]供货通知录入信息表!$F:$F,D29,[2]供货通知录入信息表!$K:$K)","v":{"$error":"#VALUE!"}},{"$f":"SUMIF([3]签收明细表!$H:$H,D29,[3]签收明细表!$K:$K)","v":{"$error":"#VALUE!"}},{"$f":"SUMIF([4]领料录入信息表!$F:$F,D29,[4]领料录入信息表!$J:$J)","v":{"$error":"#VALUE!"}}]
[28,"垫圈 16","GB95-85","SFGS-000028","技术规格书-4","套",{"$f":"SUMIF(备料计划录入信息表!D:D,备料计划控制表!D30,备料计划录入信息表!I:I)","v":0},{"$f":"SUMIF([1]合同录入信息表!$E:$E,D30,[1]合同录入信息表!$I:$I)","v":{"$error":"#VALUE!"}},{"$f":"SUMIF([2]供货通知录入信息表!$F:$F,D30,[2]供货通知录入信息表!$K:$K)","v":{"$error":"#VALUE!"}},{"$f":"SUMIF([3]签收明细表!$H:$H,D30,[3]签收明细表!$K:$K)","v":{"$error":"#VALUE!"}},{"$f":"SUMIF([4]领料录入信息表!$F:$F,D30,[4]领料录入信息表!$J:$J)","v":{"$error":"#VALUE!"}}]
[29,"垫圈 16","GB93-87","SFGS-000029","技术规格书-4","套",{"$f":"SUMIF(备料计划录入信息表!D:D,备料计划控制表!D31,备料计划录入信息表!I:I)","v":0},{"$f":"SUMIF([1]合同录入信息表!$E:$E,D31,[1]合同录入信息表!$I:$I)","v":{"$error":"#VALUE!"}},{"$f":"SUMIF([2]供货通知录入信息表!$F:$F,D31,[2]供货通知录入信息表!$K:$K)","v":{"$error":"#VALUE!"}},{"$f":"SUMIF([3]签收明细表!$H:$H,D31,[3]签收明细表!$K:$K)","v":{"$error":"#VALUE!"}},{"$f":"SUMIF([4]领料录入信息表!$F:$F,D31,[4]领料录入信息表!$J:$J)","v":{"$error":"#VALUE!"}}]
[30,"电缆固定卡","GXJL24-99","SFGS-000030","技术规格书-3","套",{"$f":"SUMIF(备料计划录入信息表!D:D,备料计划控制表!D32,备料计划录入信息表!I:I)","v":0},{"$f":"SUMIF([1]合同录入信息表!$E:$E,D32,[1]合同录入信息表!$I:$I)","v":{"$error":"#VALUE!"}},{"$f":"SUMIF([2]供货通知录入信息表!$F:$F,D32,[2]供货通知录入信息表!$K:$K)","v":{"$error":"#VALUE!"}},{"$f":"SUMIF([3]签收明细表!$H:$H,D32,[3]签收明细表!$K:$K)","v":{"$error":"#VALUE!"}},{"$f":"SUMIF([4]领料录入信息表!$F:$F,D32,[4]领料录入信息表!$J:$J)","v":{"$error":"#VALUE!"}}]
[31,"后扩底螺栓（含2个螺母、1个平垫圈、1个弹性垫圈）","M10","SFGS-000031","技术规格书-8","套",{"$f":"SUMIF(备料计划录入信息表!D:D,备料计划控制表!D33,备料计划录入信息表!I:I)","v":0},{"$f":"SUMIF([1]合同录入信息表!$E:$E,D33,[1]合同录入信息表!$I:$I)","v":{"$error":"#VALUE!"}},{"$f":"SUMIF([2]供货通知录入信息表!$F:$F,D33,[2]供货通知录入信息表!$K:$K)","v":{"$error":"#VALUE!"}},{"$f":"SUMIF([3]签收明细表!$H:$H,D33,[3]签收明细表!$K:$K)","v":{"$error":"#VALUE!"}},{"$f":"SUMIF([4]领料录入信息表!$F:$F,D33,[4]领料录入信息表!$J:$J)","v":{"$error":"#VALUE!"}}]
[32,"腕臂电缆扎带（刚扎带）","5*500","SFGS-000032","技术规格书-5","套",{"$f":"SUMIF(备料计划录入信息表!D:D,备料计划控制表!D34,备料计划录入信息表!I:I)","v":0},{"$f":"SUMIF([1]合同录入信息表!$E:$E,D34,[1]合同录入信息表!$I:$I)","v":{"$error":"#VALUE!"}},{"$f":"SUMIF([2]供货通知录入信息表!$F:$F,D34,[2]供货通知录入信息表!$K:$K)","v":{"$error":"#VALUE!"}},{"$f":"SUMIF([3]签收明细表!$H:$H,D34,[3]签收明细表!$K:$K)","v":{"$error":"#VALUE!"}},{"$f":"SUMIF([4]领料录入信息表!$F:$F,D34,[4]领料录入信息表!$J:$J)","v":{"$error":"#VALUE!"}}]
[33,"热缩管","Ф50","SFGS-000033","技术规格书-6","米",{"$f":"SUMIF(备料计划录入信息表!D:D,备料计划控制表!D35,备料计划录入信息表!I:I)","v":0},{"$f":"SUMIF([1]合同录入信息表!$E:$E,D35,[1]合同录入信息表!$I:$I)","v":{"$error":"#VALUE!"}},{"$f":"SUMIF([2]供货通知录入信息表!$F:$F,D35,[2]供货通知录入信息表!$K:$K)","v":{"$error":"#VALUE!"}},{"$f":"SUMIF([3]签收明细表!$H:$H,D35,[3]签收明细表!$K:$K)","v":{"$error":"#VALUE!"}},{"$f":"SUMIF([4]领料录入信息表!$F:$F,D35,[4]领料录入信息表!$J:$J)","v":{"$error":"#VALUE!"}}]
[34,"热缩管","Ф25","SFGS-000034","技术规格书-6","米",{"$f":"SUMIF(备料计划录入信息表!D:D,备料计划控制表!D36,备料计划录入信息表!I:I)","v":0},{"$f":"SUMIF([1]合同录入信息表!$E:$E,D36,[1]合同录入信息表!$I:$I)","v":{"$error":"#VALUE!"}},{"$f":"SUMIF([2]供货通知录入信息表!$F:$F,D36,[2]供货通知录入信息表!$K:$K)","v":{"$error":"#VALUE!"}},{"$f":"SUMIF([3]签收明细表!$H:$H,D36,[3]签收明细表!$K:$K)","v":{"$error":"#VALUE!"}},{"$f":"SUMIF([4]领料录入信息表!$F:$F,D36,[4]领料录入信息表!$J:$J)","v":{"$error":"#VALUE!"}}]
[35,"工作服（冬季）","XL","SFGS-000035",null,"套",{"$f":"SUMIF(备料计划录入信息表!D:D,备料计划控制表!D37,备料计划录入信息表!I:I)","v":0},{"$f":"SUMIF([1]合同录入信息表!$E:$E,D37,[1]合同录入信息表!$I:$I)","v":{"$error":"#VALUE!"}},{"$f":"SUMIF([2]供货通知录入信息表!$F:$F,D37,[2]供货通知录入信息表!$K:$K)","v":{"$error":"#VALUE!"}},{"$f":"SUMIF([3]签收明细表!$H:$H,D37,[3]签收明细表!$K:$K)","v":{"$error":"#VALUE!"}},{"$f":"SUMIF([4]领料录入信息表!$F:$F,D37,[4]领料录入信息表!$J:$J)","v":{"$error":"#VALUE!"}}]
[36,"工作服（冬季）","XXL","SFGS-000036",null,"套",{"$f":"SUMIF(备料计划录入信息表!D:D,备料计划控制表!D38,备料计划录入信息表!I:I)","v":0},{"$f":"SUMIF([1]合同录入信息表!$E:$E,D38,[1]合同录入信息表!$I:$I)","v":{"$error":"#VALUE!"}},{"$f":"SUMIF([2]供货通知录入信息表!$F:$F,D38,[2]供货通知录入信息表!$K:$K)","v":{"$error":"#VALUE!"}},{"$f":"SUMIF([3]签收明细表!$H:$H,D38,[3]签收明细表!$K:$K)","v":{"$error":"#VALUE!"}},{"$f":"SUMIF([4]领料录入信息表!$F:$F,D38,[4]领料录入信息表!$J:$J)","v":{"$error":"#VALUE!"}}]
[37,"工作服（冬季）","XXXL","SFGS-000037",null,"套",{"$f":"SUMIF(备料计划录入信息表!D:D,备料计划控制表!D39,备料计划录入信息表!I:I)","v":0},{"$f":"SUMIF([1]合同录入信息表!$E:$E,D39,[1]合同录入信息表!$I:$I)","v":{"$error":"#VALUE!"}},{"$f":"SUMIF([2]供货通知录入信息表!$F:$F,D39,[2]供货通知录入信息表!$K:$K)","v":{"$error":"#VALUE!"}},{"$f":"SUMIF([3]签收明细表!$H:$H,D39,[3]签收明细表!$K:$K)","v":{"$error":"#VALUE!"}},{"$f":"SUMIF([4]领料录入信息表!$F:$F,D39,[4]领料录入信息表!$J:$J)","v":{"$error":"#VALUE!"}}]
[38,"安全帽","黄色","SFGS-000038",null,"顶",{"$f":"SUMIF(备料计划录入信息表!D:D,备料计划控制表!D40,备料计划录入信息表!I:I)","v":0},{"$f":"SUMIF([1]合同录入信息表!$E:$E,D40,[1]合同录入信息表!$I:$I)","v":{"$error":"#VALUE!"}},{"$f":"SUMIF([2]供货通知录入信息表!$F:$F,D40,[2]供货通知录入信息表!$K:$K)","v":{"$error":"#VALUE!"}},{"$f":"SUMIF([3]签收明细表!$H:$H,D40,[3]签收明细表!$K:$K)","v":{"$error":"#VALUE!"}},{"$f":"SUMIF([4]领料录入信息表!$F:$F,D40,[4]领料录入信息表!$J:$J)","v":{"$error":"#VALUE!"}}]
[39,"急救药箱","含常用药品","SFGS-000039",null,"个",{"$f":"SUMIF(备料计划录入信息表!D:D,备料计划控制表!D41,备料计划录入信息表!I:I)","v":0},{"$f":"SUMIF([1]合同录入信息表!$E:$E,D41,[1]合同录入信息表!$I:$I)","v":{"$error":"#VALUE!"}},{"$f":"SUMIF([2]供货通知录入信息表!$F:$F,D41,[2]供货通知录入信息表!$K:$K)","v":{"$error":"#VALUE!"}},{"$f":"SUMIF([3]签收明细表!$H:$H,D41,[3]签收明细表!$K:$K)","v":{"$error":"#VALUE!"}},{"$f":"SUMIF([4]领料录入信息表!$F:$F,D41,[4]领料录入信息表!$J:$J)","v":{"$error":"#VALUE!"}}]
[40,"雨衣",null,"SFGS-000040",null,"个",{"$f":"SUMIF(备料计划录入信息表!D:D,备料计划控制表!D42,备料计划录入信息表!I:I)","v":0},{"$f":"SUMIF([1]合同录入信息表!$E:$E,D42,[1]合同录入信息表!$I:$I)","v":{"$error":"#VALUE!"}},{"$f":"SUMIF([2]供货通知录入信息表!$F:$F,D42,[2]供货通知录入信息表!$K:$K)","v":{"$error":"#VALUE!"}},{"$f":"SUMIF([3]签收明细表!$H:$H,D42,[3]签收明细表!$K:$K)","v":{"$error":"#VALUE!"}},{"$f":"SUMIF([4]领料录入信息表!$F:$F,D42,[4]领料录入信息表!$J:$J)","v":{"$error":"#VALUE!"}}]
[41,"雨靴",null,"SFGS-000041",null,"双",{"$f":"SUMIF(备料计划录入信息表!D:D,备料计划控制表!D43,备料计划录入信息表!I:I)","v":0},{"$f":"SUMIF([1]合同录入信息表!$E:$E,D43,[1]合同录入信息表!$I:$I)","v":{"$error":"#VALUE!"}},{"$f":"SUMIF([2]供货通知录入信息表!$F:$F,D43,[2]供货通知录入信息表!$K:$K)","v":{"$error":"#VALUE!"}},{"$f":"SUMIF([3]签收明细表!$H:$H,D43,[3]签收明细表!$K:$K)","v":{"$error":"#VALUE!"}},{"$f":"SUMIF([4]领料录入信息表!$F:$F,D43,[4]领料录入信息表!$J:$J)","v":{"$error":"#VALUE!"}}]
[42,"强光手电",null,"SFGS-000042",null,"个",{"$f":"SUMIF(备料计划录入信息表!D:D,备料计划控制表!D44,备料计划录入信息表!I:I)","v":0},{"$f":"SUMIF([1]合同录入信息表!$E:$E,D44,[1]合同录入信息表!$I:$I)","v":{"$error":"#VALUE!"}},{"$f":"SUMIF([2]供货通知录入信息表!$F:$F,D44,[2]供货通知录入信息表!$K:$K)","v":{"$error":"#VALUE!"}},{"$f":"SUMIF([3]签收明细表!$H:$H,D44,[3]签收明细表!$K:$K)","v":{"$error":"#VALUE!"}},{"$f":"SUMIF([4]领料录入信息表!$F:$F,D44,[4]领料录入信息表!$J:$J)","v":{"$error":"#VALUE!"}}]
[43,"安全帽","黄色","SFGS-000038",null,"顶",{"$f":"SUMIF(备料计划录入信息表!D:D,备料计划控制表!D45,备料计划录入信息表!I:I)","v":0},{"$f":"SUMIF([1]合同录入信息表!$E:$E,D45,[1]合同录入信息表!$I:$I)","v":{"$error":"#VALUE!"}},{"$f":"SUMIF([2]供货通知录入信息表!$F:$F,D45,[2]供货通知录入信息表!$K:$K)","v":{"$error":"#VALUE!"}},{"$f":"SUMIF([3]签收明细表!$H:$H,D45,[3]签收明细表!$K:$K)","v":{"$error":"#VALUE!"}},{"$f":"SUMIF([4]领料录入信息表!$F:$F,D45,[4]领料录入信息表!$J:$J)","v":{"$error":"#VALUE!"}}]
[44,"急救药箱","含常用药品","SFGS-000039",null,"个",{"$f":"SUMIF(备料计划录入信息表!D:D,备料计划控制表!D46,备料计划录入信息表!I:I)","v":0},{"$f":"SUMIF([1]合同录入信息表!$E:$E,D46,[1]合同录入信息表!$I:$I)","v":{"$error":"#VALUE!"}},{"$f":"SUMIF([2]供货通知录入信息表!$F:$F,D46,[2]供货通知录入信息表!$K:$K)","v":{"$error":"#VALUE!"}},{"$f":"SUMIF([3]签收明细表!$H:$H,D46,[3]签收明细表!$K:$K)","v":{"$error":"#VALUE!"}},{"$f":"SUMIF([4]领料录入信息表!$F:$F,D46,[4]领料录入信息表!$J:$J)","v":{"$error":"#VALUE!"}}]
[45,"雨衣",null,"SFGS-000040",null,"个",{"$f":"SUMIF(备料计划录入信息表!D:D,备料计划控制表!D47,备料计划录入信息表!I:I)","v":0},{"$f":"SUMIF([1]合同录入信息表!$E:$E,D47,[1]合同录入信息表!$I:$I)","v":{"$error":"#VALUE!"}},{"$f":"SUMIF([2]供货通知录入信息表!$F:$F,D47,[2]供货通知录入信息表!$K:$K)","v":{"$error":"#VALUE!"}},{"$f":"SUMIF([3]签收明细表!$H:$H,D47,[3]签收明细表!$K:$K)","v":{"$error":"#VALUE!"}},{"$f":"SUMIF([4]领料录入信息表!$F:$F,D47,[4]领料录入信息表!$J:$J)","v":{"$error":"#VALUE!"}}]
[46,"雨靴",null,"SFGS-000041",null,"双",{"$f":"SUMIF(备料计划录入信息表!D:D,备料计划控制表!D48,备料计划录入信息表!I:I)","v":0},{"$f":"SUMIF([1]合同录入信息表!$E:$E,D48,[1]合同录入信息表!$I:$I)","v":{"$error":"#VALUE!"}},{"$f":"SUMIF([2]供货通知录入信息表!$F:$F,D48,[2]供货通知录入信息表!$K:$K)","v":{"$error":"#VALUE!"}},{"$f":"SUMIF([3]签收明细表!$H:$H,D48,[3]签收明细表!$K:$K)","v":{"$error":"#VALUE!"}},{"$f":"SUMIF([4]领料录入信息表!$F:$F,D48,[4]领料录入信息表!$J:$J)","v":{"$error":"#VALUE!"}}]
[47,"安全带","全身型","SFGS-000043",null,"套",{"$f":"SUMIF(备料计划录入信息表!D:D,备料计划控制表!D49,备料计划录入信息表!I:I)","v":0},{"$f":"SUMIF([1]合同录入信息表!$E:$E,D49,[1]合同录入信息表!$I:$I)","v":{"$error":"#VALUE!"}},{"$f":"SUMIF([2]供货通知录入信息表!$F:$F,D49,[2]供货通知录入信息表!$K:$K)","v":{"$error":"#VALUE!"}},{"$f":"SUMIF([3]签收明细表!$H:$H,D49,[3]签收明细表!$K:$K)","v":{"$error":"#VALUE!"}},{"$f":"SUMIF([4]领料录入信息表!$F:$F,D49,[4]领料录入信息表!$J:$J)","v":{"$error":"#VALUE!"}}]
[48,"安全警示带","红白色","SFGS-000044",null,"卷",{"$f":"SUMIF(备料计划录入信息表!D:D,备料计划控制表!D50,备料计划录入信息表!I:I)","v":0},{"$f":"SUMIF([1]合同录入信息表!$E:$E,D50,[1]合同录入信息表!$I:$I)","v":{"$error":"#VALUE!"}},{"$f":"SUMIF([2]供货通知录入信息表!$F:$F,D50,[2]供货通知录入信息表!$K:$K)","v":{"$error":"#VALUE!"}},{"$f":"SUMIF([3]签收明细表!$H:$H,D50,[3]签收明细表!$K:$K)","v":{"$error":"#VALUE!"}},{"$f":"SUMIF([4]领料录入信息表!$F:$F,D50,[4]领料录入信息表!$J:$J)","v":{"$error":"#VALUE!"}}]
[49,"内外壁热镀锌钢管","DN150*4.5mm","SFGS-000045","技术规格书-1","米",{"$f":"SUMIF(备料计划录入信息表!D:D,备料计划控制表!D51,备料计划录入信息表!I:I)","v":0},{"$f":"SUMIF([1]合同录入信息表!$E:$E,D51,[1]合同录入信息表!$I:$I)","v":{"$error":"#VALUE!"}},{"$f":"SUMIF([2]供货通知录入信息表!$F:$F,D51,[2]供货通知录入信息表!$K:$K)","v":{"$error":"#VALUE!"}},{"$f":"SUMIF([3]签收明细表!$H:$H,D51,[3]签收明细表!$K:$K)","v":{"$error":"#VALUE!"}},{"$f":"SUMIF([4]领料录入信息表!$F:$F,D51,[4]领料录入信息表!$J:$J)","v":{"$error":"#VALUE!"}}]
[50,"内外壁热镀锌钢管","DN100*4mm","SFGS-000046","技术规格书-1","米",{"$f":"SUMIF(备料计划录入信息表!D:D,备料计划控制表!D52,备料计划录入信息表!I:I)","v":0},{"$f":"SUMIF([1]合同录入信息表!$E:$E,D52,[1]合同录入信息表!$I:$I)","v":{"$error":"#VALUE!"}},{"$f":"SUMIF([2]供货通知录入信息表!$F:$F,D52,[2]供货通知录入信息表!$K:$K)","v":{"$error":"#VALUE!"}},{"$f":"SUMIF([3]签收明细表!$H:$H,D52,[3]签收明细表!$K:$K)","v":{"$error":"#VALUE!"}},{"$f":"SUMIF([4]领料录入信息表!$F:$F,D52,[4]领料录入信息表!$J:$J)","v":{"$error":"#VALUE!"}}]
[51,"内外壁热镀锌钢管","DN80*4mm","SFGS-000047","技术规格书-1","米",{"$f":"SUMIF(备料计划录入信息表!D:D,备料计划控制表!D53,备料计划录入信息表!I:I)","v":0},{"$f":"SUMIF([1]合同录入信息表!$E:$E,D53,[1]合同录入信息表!$I:$I)","v":{"$error":"#VALUE!"}},{"$f":"SUMIF([2]供货通知录入信息表!$F:$F,D53,[2]供货通知录入信息表!$K:$K)","v":{"$error":"#VALUE!"}},{"$f":"SUMIF([3]签收明细表!$H:$H,D53,[3]签收明细表!$K:$K)","v":{"$error":"#VALUE!"}},{"$f":"SUMIF([4]领料录入信息表!$F:$F,D53,[4]领料录入信息表!$J:$J)","v":{"$error":"#VALUE!"}}]
[52,"内外壁热镀锌钢管","DN65*4mm","SFGS-000048","技术规格书-1","米",{"$f":"SUMIF(备料计划录入信息表!D:D,备料计划控制表!D54,备料计划录入信息表!I:I)","v":0},{"$f":"SUMIF([1]合同录入信息表!$E:$E,D54,[1]合同录入信息表!$I:$I)","v":{"$error":"#VALUE!"}},{"$f":"SUMIF([2]供货通知录入信息表!$F:$F,D54,[2]供货通知录入信息表!$K:$K)","v":{"$error":"#VALUE!"}},{"$f":"SUMIF([3]签收明细表!$H:$H,D54,[3]签收明细表!$K:$K)","v":{"$error":"#VALUE!"}},{"$f":"SUMIF([4]领料录入信息表!$F:$F,D54,[4]领料录入信息表!$J:$J)","v":{"$error":"#VALUE!"}}]
[53,"内外壁热镀锌钢管","DN50*3.8mm","SFGS-000049","技术规格书-1","米",{"$f":"SUMIF(备料计划录入信息表!D:D,备料计划控制表!D55,备料计划录入信息表!I:I)","v":0},{"$f":"SUMIF([1]合同录入信息表!$E:$E,D55,[1]合同录入信息表!$I:$I)","v":{"$error":"#VALUE!"}},{"$f":"SUMIF([2]供货通知录入信息表!$F:$F,D55,[2]供货通知录入信息表!$K:$K)","v":{"$error":"#VALUE!"}},{"$f":"SUMIF([3]签收明细表!$H:$H,D55,[3]签收明细表!$K:$K)","v":{"$error":"#VALUE!"}},{"$f":"SUMIF([4]领料录入信息表!$F:$F,D55,[4]领料录入信息表!$J:$J)","v":{"$error":"#VALUE!"}}]
[54,"内外壁热镀锌钢管","DN40*3.5mm","SFGS-000050","技术规格书-1","米",{"$f":"SUMIF(备料计划录入信息表!D:D,备料计划控制表!D56,备料计划录入信息表!I:I)","v":0},{"$f":"SUMIF([1]合同录入信息表!$E:$E,D56,[1]合同录入信息表!$I:$I)","v":{"$error":"#VALUE!"}},{"$f":"SUMIF([2]供货通知录入信息表!$F:$F,D56,[2]供货通知录入信息表!$K:$K)","v":{"$error":"#VALUE!"}},{"$f":"SUMIF([3]签收明细表!$H:$H,D56,[3]签收明细表!$K:$K)","v":{"$error":"#VALUE!"}},{"$f":"SUMIF([4]领料录入信息表!$F:$F,D56,[4]领料录入信息表!$J:$J)","v":{"$error":"#VALUE!"}}]
[55,"内外壁热镀锌钢管","DN32*3.5mm","SFGS-000051","技术规格书-1","米",{"$f":"SUMIF(备料计划录入信息表!D:D,备料计划控制表!D57,备料计划录入信息表!I:I)","v":0},{"$f":"SUMIF([1]合同录入信息表!$E:$E,D57,[1]合同录入信息表!$I:$I)","v":{"$error":"#VALUE!"}},{"$f":"SUMIF([2]供货通知录入信息表!$F:$F,D57,[2]供货通知录入信息表!$K:$K)","v":{"$error":"#VALUE!"}},{"$f":"SUMIF([3]签收明细表!$H:$H,D57,[3]签收明细表!$K:$K)","v":{"$error":"#VALUE!"}},{"$f":"SUMIF([4]领料录入信息表!$F:$F,D57,[4]领料录入信息表!$J:$J)","v":{"$error":"#VALUE!"}}]
[56,"内外壁热镀锌钢管","DN25*3.2mm","SFGS-000052","技术规格书-1","米",{"$f":"SUMIF(备料计划录入信息表!D:D,备料计划控制表!D58,备料计划录入信息表!I:I)","v":0},{"$f":"SUMIF([1]合同录入信息表!$E:$E,D58,[1]合同录入信息表!$I:$I)","v":{"$error":"#VALUE!"}},{"$f":"SUMIF([2]供货通知录入信息表!$F:$F,D58,[2]供货通知录入信息表!$K:$K)","v":{"$error":"#VALUE!"}},{"$f":"SUMIF([3]签收明细表!$H:$H,D58,[3]签收明细表!$K:$K)","v":{"$error":"#VALUE!"}},{"$f":"SUMIF([4]领料录入信息表!$F:$F,D58,[4]领料录入信息表!$J:$J)","v":{"$error":"#VALUE!"}}]
[57,"镀锌90°弯头","DN25","SFGS-000053","按照11号线之前标准","个",{"$f":"SUMIF(备料计划录入信息表!D:D,备料计划控制表!D59,备料计划录入信息表!I:I)","v":0},{"$f":"SUMIF([1]合同录入信息表!$E:$E,D59,[1]合同录入信息表!$I:$I)","v":{"$error":"#VALUE!"}},{"$f":"SUMIF([2]供货通知录入信息表!$F:$F,D59,[2]供货通知录入信息表!$K:$K)","v":{"$error":"#VALUE!"}},{"$f":"SUMIF([3]签收明细表!$H:$H,D59,[3]签收明细表!$K:$K)","v":{"$error":"#VALUE!"}},{"$f":"SUMIF([4]领料录入信息表!$F:$F,D59,[4]领料录入信息表!$J:$J)","v":{"$error":"#VALUE!"}}]
[58,"镀锌90°弯头","DN32","SFGS-000054","按照11号线之前标准","个",{"$f":"SUMIF(备料计划录入信息表!D:D,备料计划控制表!D60,备料计划录入信息表!I:I)","v":0},{"$f":"SUMIF([1]合同录入信息表!$E:$E,D60,[1]合同录入信息表!$I:$I)","v":{"$error":"#VALUE!"}},{"$f":"SUMIF([2]供货通知录入信息表!$F:$F,D60,[2]供货通知录入信息表!$K:$K)","v":{"$error":"#VALUE!"}},{"$f":"SUMIF([3]签收明细表!$H:$H,D60,[3]签收明细表!$K:$K)","v":{"$error":"#VALUE!"}},{"$f":"SUMIF([4]领料录入信息表!$F:$F,D60,[4]领料录入信息表!$J:$J)","v":{"$error":"#VALUE!"}}]
[59,"镀锌90°弯头","DN32*25","SFGS-000055","按照11号线之前标准","个",{"$f":"SUMIF(备料计划录入信息表!D:D,备料计划控制表!D61,备料计划录入信息表!I:I)","v":0},{"$f":"SUMIF([1]合同录入信息表!$E:$E,D61,[1]合同录入信息表!$I:$I)","v":{"$error":"#VALUE!"}},{"$f":"SUMIF([2]供货通知录入信息表!$F:$F,D61,[2]供货通知录入信息表!$K:$K)","v":{"$error":"#VALUE!"}},{"$f":"SUMIF([3]签收明细表!$H:$H,D61,[3]签收明细表!$K:$K)","v":{"$error":"#VALUE!"}},{"$f":"SUMIF([4]领料录入信息表!$F:$F,D61,[4]领料录入信息表!$J:$J)","v":{"$error":"#VALUE!"}}]
[60,"镀锌90°弯头","DN40","SFGS-000056","按照11号线之前标准","个",{"$f":"SUMIF(备料计划录入信息表!D:D,备料计划控制表!D62,备料计划录入信息表!I:I)","v":0},{"$f":"SUMIF([1]合同录入信息表!$E:$E,D62,[1]合同录入信息表!$I:$I)","v":{"$error":"#VALUE!"}},{"$f":"SUMIF([2]供货通知录入信息表!$F:$F,D62,[2]供货通知录入信息表!$K:$K)","v":{"$error":"#VALUE!"}},{"$f":"SUMIF([3]签收明细表!$H:$H,D62,[3]签收明细表!$K:$K)","v":{"$error":"#VALUE!"}},{"$f":"SUMIF([4]领料录入信息表!$F:$F,D62,[4]领料录入信息表!$J:$J)","v":{"$error":"#VALUE!"}}]
[61,"外丝直接","DN15","SFGS-000057","按照11号线之前标准","个",{"$f":"SUMIF(备料计划录入信息表!D:D,备料计划控制表!D63,备料计划录入信息表!I:I)","v":0},{"$f":"SUMIF([1]合同录入信息表!$E:$E,D63,[1]合同录入信息表!$I:$I)","v":{"$error":"#VALUE!"}},{"$f":"SUMIF([2]供货通知录入信息表!$F:$F,D63,[2]供货通知录入信息表!$K:$K)","v":{"$error":"#VALUE!"}},{"$f":"SUMIF([3]签收明细表!$H:$H,D63,[3]签收明细表!$K:$K)","v":{"$error":"#VALUE!"}},{"$f":"SUMIF([4]领料录入信息表!$F:$F,D63,[4]领料录入信息表!$J:$J)","v":{"$error":"#VALUE!"}}]
[62,"外丝直接","DN25","SFGS-000058","按照11号线之前标准","个",{"$f":"SUMIF(备料计划录入信息表!D:D,备料计划控制表!D64,备料计划录入信息表!I:I)","v":0},{"$f":"SUMIF([1]合同录入信息表!$E:$E,D64,[1]合同录入信息表!$I:$I)","v":{"$error":"#VALUE!"}},{"$f":"SUMIF([2]供货通知录入信息表!$F:$F,D64,[2]供货通知录入信息表!$K:$K)","v":{"$error":"#VALUE!"}},{"$f":"SUMIF([3]签收明细表!$H:$H,D64,[3]签收明细表!$K:$K)","v":{"$error":"#VALUE!"}},{"$f":"SUMIF([4]领料录入信息表!$F:$F,D64,[4]领料录入信息表!$J:$J)","v":{"$error":"#VALUE!"}}]
[63,"镀锌大小头","DN25*15","SFGS-000059","按照11号线之前标准","个",{"$f":"SUMIF(备料计划录入信息表!D:D,备料计划控制表!D65,备料计划录入信息表!I:I)","v":0},{"$f":"SUMIF([1]合同录入信息表!$E:$E,D65,[1]合同录入信息表!$I:$I)","v":{"$error":"#VALUE!"}},{"$f":"SUMIF([2]供货通知录入信息表!$F:$F,D65,[2]供货通知录入信息表!$K:$K)","v":{"$error":"#VALUE!"}},{"$f":"SUMIF([3]签收明细表!$H:$H,D65,[3]签收明细表!$K:$K)","v":{"$error":"#VALUE!"}},{"$f":"SUMIF([4]领料录入信息表!$F:$F,D65,[4]领料录入信息表!$J:$J)","v":{"$error":"#VALUE!"}}]
[64,"镀锌大小头","DN25*20","SFGS-000060","按照11号线之前标准","个",{"$f":"SUMIF(备料计划录入信息表!D:D,备料计划控制表!D66,备料计划录入信息表!I:I)","v":0},{"$f":"SUMIF([1]合同录入信息表!$E:$E,D66,[1]合同录入信息表!$I:$I)","v":{"$error":"#VALUE!"}},{"$f":"SUMIF([2]供货通知录入信息表!$F:$F,D66,[2]供货通知录入信息表!$K:$K)","v":{"$error":"#VALUE!"}},{"$f":"SUMIF([3]签收明细表!$H:$H,D66,[3]签收明细表!$K:$K)","v":{"$error":"#VALUE!"}},{"$f":"SUMIF([4]领料录入信息表!$F:$F,D66,[4]领料录入信息表!$J:$J)","v":{"$error":"#VALUE!"}}]
[65,"镀锌大小头","DN32*15","SFGS-000061","按照11号线之前标准","个",{"$f":"SUMIF(备料计划录入信息表!D:D,备料计划控制表!D67,备料计划录入信息表!I:I)","v":0},{"$f":"SUMIF([1]合同录入信息表!$E:$E,D67,[1]合同录入信息表!$I:$I)","v":{"$error":"#VALUE!"}},{"$f":"SUMIF([2]供货通知录入信息表!$F:$F,D67,[2]供货通知录入信息表!$K:$K)","v":{"$error":"#VALUE!"}},{"$f":"SUMIF([3]签收明细表!$H:$H,D67,[3]签收明细表!$K:$K)","v":{"$error":"#VALUE!"}},{"$f":"SUMIF([4]领料录入信息表!$F:$F,D67,[4]领料录入信息表!$J:$J)","v":{"$error":"#VALUE!"}}]
[66,"镀锌大小头","DN32*20","SFGS-000062","按照11号线之前标准","个",{"$f":"SUMIF(备料计划录入信息表!D:D,备料计划控制表!D68,备料计划录入信息表!I:I)","v":0},{"$f":"SUMIF([1]合同录入信息表!$E:$E,D68,[1]合同录入信息表!$I:$I)","v":{"$error":"#VALUE!"}},{"$f":"SUMIF([2]供货通知录入信息表!$F:$F,D68,[2]供货通知录入信息表!$K:$K)","v":{"$error":"#VALUE!"}},{"$f":"SUMIF([3]签收明细表!$H:$H,D68,[3]签收明细表!$K:$K)","v":{"$error":"#VALUE!"}},{"$f":"SUMIF([4]领料录入信息表!$F:$F,D68,[4]领料录入信息表!$J:$J)","v":{"$error":"#VALUE!"}}]
[67,"镀锌大小头","DN65*40","SFGS-000063","按照11号线之前标准","个",{"$f":"SUMIF(备料计划录入信息表!D:D,备料计划控制表!D69,备料计划录入信息表!I:I)","v":0},{"$f":"SUMIF([1]合同录入信息表!$E:$E,D69,[1]合同录入信息表!$I:$I)","v":{"$error":"#VALUE!"}},{"$f":"SUMIF([2]供货通知录入信息表!$F:$F,D69,[2]供货通知录入信息表!$K:$K)","v":{"$error":"#VALUE!"}},{"$f":"SUMIF([3]签收明细表!$H:$H,D69,[3]签收明细表!$K:$K)","v":{"$error":"#VALUE!"}},{"$f":"SUMIF([4]领料录入信息表!$F:$F,D69,[4]领料录入信息表!$J:$J)","v":{"$error":"#VALUE!"}}]
[68,"镀锌三通","DN25*25*25","SFGS-000064","按照11号线之前标准","个",{"$f":"SUMIF(备料计划录入信息表!D:D,备料计划控制表!D70,备料计划录入信息表!I:I)","v":0},{"$f":"SUMIF([1]合同录入信息表!$E:$E,D70,[1]合同录入信息表!$I:$I)","v":{"$error":"#VALUE!"}},{"$f":"SUMIF([2]供货通知录入信息表!$F:$F,D70,[2]供货通知录入信息表!$K:$K)","v":{"$error":"#VALUE!"}},{"$f":"SUMIF([3]签收明细表!$H:$H,D70,[3]签收明细表!$K:$K)","v":{"$error":"#VALUE!"}},{"$f":"SUMIF([4]领料录入信息表!$F:$F,D70,[4]领料录入信息表!$J:$J)","v":{"$error":"#VALUE!"}}]
[69,"镀锌三通","DN32*32*32","SFGS-000065","按照11号线之前标准","个",{"$f":"SUMIF(备料计划录入信息表!D:D,备料计划控制表!D71,备料计划录入信息表!I:I)","v":0},{"$f":"SUMIF([1]合同录入信息表!$E:$E,D71,[1]合同录入信息表!$I:$I)","v":{"$error":"#VALUE!"}},{"$f":"SUMIF([2]供货通知录入信息表!$F:$F,D71,[2]供货通知录入信息表!$K:$K)","v":{"$error":"#VALUE!"}},{"$f":"SUMIF([3]签收明细表!$H:$H,D71,[3]签收明细表!$K:$K)","v":{"$error":"#VALUE!"}},{"$f":"SUMIF([4]领料录入信息表!$F:$F,D71,[4]领料录入信息表!$J:$J)","v":{"$error":"#VALUE!"}}]
[70,"镀锌三通","DN32*40*32","SFGS-000066","按照11号线之前标准","个",{"$f":"SUMIF(备料计划录入信息表!D:D,备料计划控制表!D72,备料计划录入信息表!I:I)","v":0},{"$f":"SUMIF([1]合同录入信息表!$E:$E,D72,[1]合同录入信息表!$I:$I)","v":{"$error":"#VALUE!"}},{"$f":"SUMIF([2]供货通知录入信息表!$F:$F,D72,[2]供货通知录入信息表!$K:$K)","v":{"$error":"#VALUE!"}},{"$f":"SUMIF([3]签收明细表!$H:$H,D72,[3]签收明细表!$K:$K)","v":{"$error":"#VALUE!"}},{"$f":"SUMIF([4]领料录入信息表!$F:$F,D72,[4]领料录入信息表!$J:$J)","v":{"$error":"#VALUE!"}}]
[71,"镀锌三通","DN40*32*32","SFGS-000067","按照11号线之前标准","个",{"$f":"SUMIF(备料计划录入信息表!D:D,备料计划控制表!D73,备料计划录入信息表!I:I)","v":0},{"$f":"SUMIF([1]合同录入信息表!$E:$E,D73,[1]合同录入信息表!$I:$I)","v":{"$error":"#VALUE!"}},{"$f":"SUMIF([2]供货通知录入信息表!$F:$F,D73,[2]供货通知录入信息表!$K:$K)","v":{"$error":"#VALUE!"}},{"$f":"SUMIF([3]签收明细表!$H:$H,D73,[3]签收明细表!$K:$K)","v":{"$error":"#VALUE!"}},{"$f":"SUMIF([4]领料录入信息表!$F:$F,D73,[4]领料录入信息表!$J:$J)","v":{"$error":"#VALUE!"}}]
[72,"镀锌三通","DN40*32*40","SFGS-000068","按照11号线之前标准","个",{"$f":"SUMIF(备料计划录入信息表!D:D,备料计划控制表!D74,备料计划录入信息表!I:I)","v":0},{"$f":"SUMIF([1]合同录入信息表!$E:$E,D74,[1]合同录入信息表!$I:$I)","v":{"$error":"#VALUE!"}},{"$f":"SUMIF([2]供货通知录入信息表!$F:$F,D74,[2]供货通知录入信息表!$K:$K)","v":{"$error":"#VALUE!"}},{"$f":"SUMIF([3]签收明细表!$H:$H,D74,[3]签收明细表!$K:$K)","v":{"$error":"#VALUE!"}},{"$f":"SUMIF([4]领料录入信息表!$F:$F,D74,[4]领料录入信息表!$J:$J)","v":{"$error":"#VALUE!"}}]
[73,"镀锌三通","DN40*40*32","SFGS-000069","按照11号线之前标准","个",{"$f":"SUMIF(备料计划录入信息表!D:D,备料计划控制表!D75,备料计划录入信息表!I:I)","v":0},{"$f":"SUMIF([1]合同录入信息表!$E:$E,D75,[1]合同录入信息表!$I:$I)","v":{"$error":"#VALUE!"}},{"$f":"SUMIF([2]供货通知录入信息表!$F:$F,D75,[2]供货通知录入信息表!$K:$K)","v":{"$error":"#VALUE!"}},{"$f":"SUMIF([3]签收明细表!$H:$H,D75,[3]签收明细表!$K:$K)","v":{"$error":"#VALUE!"}},{"$f":"SUMIF([4]领料录入信息表!$F:$F,D75,[4]领料录入信息表!$J:$J)","v":{"$error":"#VALUE!"}}]
[74,"镀锌三通","DN40*65*40","SFGS-000070","按照11号线之前标准","个",{"$f":"SUMIF(备料计划录入信息表!D:D,备料计划控制表!D76,备料计划录入信息表!I:I)","v":0},{"$f":"SUMIF([1]合同录入信息表!$E:$E,D76,[1]合同录入信息表!$I:$I)","v":{"$error":"#VALUE!"}},{"$f":"SUMIF([2]供货通知录入信息表!$F:$F,D76,[2]供货通知录入信息表!$K:$K)","v":{"$error":"#VALUE!"}},{"$f":"SUMIF([3]签收明细表!$H:$H,D76,[3]签收明细表!$K:$K)","v":{"$error":"#VALUE!"}},{"$f":"SUMIF([4]领料录入信息表!$F:$F,D76,[4]领料录入信息表!$J:$J)","v":{"$error":"#VALUE!"}}]
[75,"镀锌三通","DN50*32*40","SFGS-000071","按照11号线之前标准","个",{"$f":"SUMIF(备料计划录入信息表!D:D,备料计划控制表!D77,备料计划录入信息表!I:I)","v":0},{"$f":"SUMIF([1]合同录入信息表!$E:$E,D77,[1]合同录入信息表!$I:$I)","v":{"$error":"#VALUE!"}},{"$f":"SUMIF([2]供货通知录入信息表!$F:$F,D77,[2]供货通知录入信息表!$K:$K)","v":{"$error":"#VALUE!"}},{"$f":"SUMIF([3]签收明细表!$H:$H,D77,[3]签收明细表!$K:$K)","v":{"$error":"#VALUE!"}},{"$f":"SUMIF([4]领料录入信息表!$F:$F,D77,[4]领料录入信息表!$J:$J)","v":{"$error":"#VALUE!"}}]
[76,"镀锌三通","DN65*32*50","SFGS-000072","按照11号线之前标准","个",{"$f":"SUMIF(备料计划录入信息表!D:D,备料计划控制表!D78,备料计划录入信息表!I:I)","v":0},{"$f":"SUMIF([1]合同录入信息表!$E:$E,D78,[1]合同录入信息表!$I:$I)","v":{"$error":"#VALUE!"}},{"$f":"SUMIF([2]供货通知录入信息表!$F:$F,D78,[2]供货通知录入信息表!$K:$K)","v":{"$error":"#VALUE!"}},{"$f":"SUMIF([3]签收明细表!$H:$H,D78,[3]签收明细表!$K:$K)","v":{"$error":"#VALUE!"}},{"$f":"SUMIF([4]领料录入信息表!$F:$F,D78,[4]领料录入信息表!$J:$J)","v":{"$error":"#VALUE!"}}]
[77,"镀锌三通","DN65*32*65","SFGS-000073","按照11号线之前标准","个",{"$f":"SUMIF(备料计划录入信息表!D:D,备料计划控制表!D79,备料计划录入信息表!I:I)","v":0},{"$f":"SUMIF([1]合同录入信息表!$E:$E,D79,[1]合同录入信息表!$I:$I)","v":{"$error":"#VALUE!"}},{"$f":"SUMIF([2]供货通知录入信息表!$F:$F,D79,[2]供货通知录入信息表!$K:$K)","v":{"$error":"#VALUE!"}},{"$f":"SUMIF([3]签收明细表!$H:$H,D79,[3]签收明细表!$K:$K)","v":{"$error":"#VALUE!"}},{"$f":"SUMIF([4]领料录入信息表!$F:$F,D79,[4]领料录入信息表!$J:$J)","v":{"$error":"#VALUE!"}}]
[78,"镀锌三通","DN65*40*40","SFGS-000074","按照11号线之前标准","个",{"$f":"SUMIF(备料计划录入信息表!D:D,备料计划控制表!D80,备料计划录入信息表!I:I)","v":0},{"$f":"SUMIF([1]合同录入信息表!$E:$E,D80,[1]合同录入信息表!$I:$I)","v":{"$error":"#VALUE!"}},{"$f":"SUMIF([2]供货通知录入信息表!$F:$F,D80,[2]供货通知录入信息表!$K:$K)","v":{"$error":"#VALUE!"}},{"$f":"SUMIF([3]签收明细表!$H:$H,D80,[3]签收明细表!$K:$K)","v":{"$error":"#VALUE!"}},{"$f":"SUMIF([4]领料录入信息表!$F:$F,D80,[4]领料录入信息表!$J:$J)","v":{"$error":"#VALUE!"}}]
[79,"镀锌三通","DN65*40*65","SFGS-000075","按照11号线之前标准","个",{"$f":"SUMIF(备料计划录入信息表!D:D,备料计划控制表!D81,备料计划录入信息表!I:I)","v":0},{"$f":"SUMIF([1]合同录入信息表!$E:$E,D81,[1]合同录入信息表!$I:$I)","v":{"$error":"#VALUE!"}},{"$f":"SUMIF([2]供货通知录入信息表!$F:$F,D81,[2]供货通知录入信息表!$K:$K)","v":{"$error":"#VALUE!"}},{"$f":"SUMIF([3]签收明细表!$H:$H,D81,[3]签收明细表!$K:$K)","v":{"$error":"#VALUE!"}},{"$f":"SUMIF([4]领料录入信息表!$F:$F,D81,[4]领料录入信息表!$J:$J)","v":{"$error":"#VALUE!"}}]
[80,"镀锌三通","DN80*32*65","SFGS-000076","按照11号线之前标准","个",{"$f":"SUMIF(备料计划录入信息表!D:D,备料计划控制表!D82,备料计划录入信息表!I:I)","v":0},{"$f":"SUMIF([1]合同录入信息表!$E:$E,D82,[1]合同录入信息表!$I:$I)","v":{"$error":"#VALUE!"}},{"$f":"SUMIF([2]供货通知录入信息表!$F:$F,D82,[2]供货通知录入信息表!$K:$K)","v":{"$error":"#VALUE!"}},{"$f":"SUMIF([3]签收明细表!$H:$H,D82,[3]签收明细表!$K:$K)","v":{"$error":"#VALUE!"}},{"$f":"SUMIF([4]领料录入信息表!$F:$F,D82,[4]领料录入信息表!$J:$J)","v":{"$error":"#VALUE!"}}]
[81,"镀锌三通","DN80*32*80","SFGS-000077","按照11号线之前标准","个",{"$f":"SUMIF(备料计划录入信息表!D:D,备料计划控制表!D83,备料计划录入信息表!I:I)","v":0},{"$f":"SUMIF([1]合同录入信息表!$E:$E,D83,[1]合同录入信息表!$I:$I)","v":{"$error":"#VALUE!"}},{"$f":"SUMIF([2]供货通知录入信息表!$F:$F,D83,[2]供货通知录入信息表!$K:$K)","v":{"$error":"#VALUE!"}},{"$f":"SUMIF([3]签收明细表!$H:$H,D83,[3]签收明细表!$K:$K)","v":{"$error":"#VALUE!"}},{"$f":"SUMIF([4]领料录入信息表!$F:$F,D83,[4]领料录入信息表!$J:$J)","v":{"$error":"#VALUE!"}}]
[82,"镀锌三通","DN80*40*65","SFGS-000078","按照11号线之前标准","个",{"$f":"SUMIF(备料计划录入信息表!D:D,备料计划控制表!D84,备料计划录入信息表!I:I)","v":0},{"$f":"SUMIF([1]合同录入信息表!$E:$E,D84,[1]合同录入信息表!$I:$I)","v":{"$error":"#VALUE!"}},{"$f":"SUMIF([2]供货通知录入信息表!$F:$F,D84,[2]供货通知录入信息表!$K:$K)","v":{"$error":"#VALUE!"}},{"$f":"SUMIF([3]签收明细表!$H:$H,D84,[3]签收明细表!$K:$K)","v":{"$error":"#VALUE!"}},{"$f":"SUMIF([4]领料录入信息表!$F:$F,D84,[4]领料录入信息表!$J:$J)","v":{"$error":"#VALUE!"}}]
[83,"镀锌四通","DN80*40*65*40","SFGS-000079","按照11号线之前标准","个",{"$f":"SUMIF(备料计划录入信息表!D:D,备料计划控制表!D85,备料计划录入信息表!I:I)","v":0},{"$f":"SUMIF([1]合同录入信息表!$E:$E,D85,[1]合同录入信息表!$I:$I)","v":{"$error":"#VALUE!"}},{"$f":"SUMIF([2]供货通知录入信息表!$F:$F,D85,[2]供货通知录入信息表!$K:$K)","v":{"$error":"#VALUE!"}},{"$f":"SUMIF([3]签收明细表!$H:$H,D85,[3]签收明细表!$K:$K)","v":{"$error":"#VALUE!"}},{"$f":"SUMIF([4]领料录入信息表!$F:$F,D85,[4]领料录入信息表!$J:$J)","v":{"$error":"#VALUE!"}}]
[84,"镀锌四通","DN80*40*80*40","SFGS-000080","按照11号线之前标准","个",{"$f":"SUMIF(备料计划录入信息表!D:D,备料计划控制表!D86,备料计划录入信息表!I:I)","v":0},{"$f":"SUMIF([1]合同录入信息表!$E:$E,D86,[1]合同录入信息表!$I:$I)","v":{"$error":"#VALUE!"}},{"$f":"SUMIF([2]供货通知录入信息表!$F:$F,D86,[2]供货通知录入信息表!$K:$K)","v":{"$error":"#VALUE!"}},{"$f":"SUMIF([3]签收明细表!$H:$H,D86,[3]签收明细表!$K:$K)","v":{"$error":"#VALUE!"}},{"$f":"SUMIF([4]领料录入信息表!$F:$F,D86,[4]领料录入信息表!$J:$J)","v":{"$error":"#VALUE!"}}]
[85,"沟槽式三通","DN100*100*100","SFGS-000081","技术规格书-2","个",{"$f":"SUMIF(备料计划录入信息表!D:D,备料计划控制表!D87,备料计划录入信息表!I:I)","v":0},{"$f":"SUMIF([1]合同录入信息表!$E:$E,D87,[1]合同录入信息表!$I:$I)","v":{"$error":"#VALUE!"}},{"$f":"SUMIF([2]供货通知录入信息表!$F:$F,D87,[2]供货通知录入信息表!$K:$K)","v":{"$error":"#VALUE!"}},{"$f":"SUMIF([3]签收明细表!$H:$H,D87,[3]签收明细表!$K:$K)","v":{"$error":"#VALUE!"}},{"$f":"SUMIF([4]领料录入信息表!$F:$F,D87,[4]领料录入信息表!$J:$J)","v":{"$error":"#VALUE!"}}]
[86,"沟槽式三通","DN150*150*150","SFGS-000082","技术规格书-2","个",{"$f":"SUMIF(备料计划录入信息表!D:D,备料计划控制表!D88,备料计划录入信息表!I:I)","v":0},{"$f":"SUMIF([1]合同录入信息表!$E:$E,D88,[1]合同录入信息表!$I:$I)","v":{"$error":"#VALUE!"}},{"$f":"SUMIF([2]供货通知录入信息表!$F:$F,D88,[2]供货通知录入信息表!$K:$K)","v":{"$error":"#VALUE!"}},{"$f":"SUMIF([3]签收明细表!$H:$H,D88,[3]签收明细表!$K:$K)","v":{"$error":"#VALUE!"}},{"$f":"SUMIF([4]领料录入信息表!$F:$F,D88,[4]领料录入信息表!$J:$J)","v":{"$error":"#VALUE!"}}]
[87,"沟槽式四通","DN150*150*150*150","SFGS-000083","技术规格书-2","个",{"$f":"SUMIF(备料计划录入信息表!D:D,备料计划控制表!D89,备料计划录入信息表!I:I)","v":0},{"$f":"SUMIF([1]合同录入信息表!$E:$E,D89,[1]合同录入信息表!$I:$I)","v":{"$error":"#VALUE!"}},{"$f":"SUMIF([2]供货通知录入信息表!$F:$F,D89,[2]供货通知录入信息表!$K:$K)","v":{"$error":"#VALUE!"}},{"$f":"SUMIF([3]签收明细表!$H:$H,D89,[3]签收明细表!$K:$K)","v":{"$error":"#VALUE!"}},{"$f":"SUMIF([4]领料录入信息表!$F:$F,D89,[4]领料录入信息表!$J:$J)","v":{"$error":"#VALUE!"}}]
[88,"沟槽式螺纹机械三通","DN100*40*100","SFGS-000084","技术规格书-2","个",{"$f":"SUMIF(备料计划录入信息表!D:D,备料计划控制表!D90,备料计划录入信息表!I:I)","v":0},{"$f":"SUMIF([1]合同录入信息表!$E:$E,D90,[1]合同录入信息表!$I:$I)","v":{"$error":"#VALUE!"}},{"$f":"SUMIF([2]供货通知录入信息表!$F:$F,D90,[2]供货通知录入信息表!$K:$K)","v":{"$error":"#VALUE!"}},{"$f":"SUMIF([3]签收明细表!$H:$H,D90,[3]签收明细表!$K:$K)","v":{"$error":"#VALUE!"}},{"$f":"SUMIF([4]领料录入信息表!$F:$F,D90,[4]领料录入信息表!$J:$J)","v":{"$error":"#VALUE!"}}]
[89,"沟槽式螺纹机械三通","DN150*25*150","SFGS-000085","技术规格书-2","个",{"$f":"SUMIF(备料计划录入信息表!D:D,备料计划控制表!D91,备料计划录入信息表!I:I)","v":0},{"$f":"SUMIF([1]合同录入信息表!$E:$E,D91,[1]合同录入信息表!$I:$I)","v":{"$error":"#VALUE!"}},{"$f":"SUMIF([2]供货通知录入信息表!$F:$F,D91,[2]供货通知录入信息表!$K:$K)","v":{"$error":"#VALUE!"}},{"$f":"SUMIF([3]签收明细表!$H:$H,D91,[3]签收明细表!$K:$K)","v":{"$error":"#VALUE!"}},{"$f":"SUMIF([4]领料录入信息表!$F:$F,D91,[4]领料录入信息表!$J:$J)","v":{"$error":"#VALUE!"}}]
[90,"沟槽式螺纹机械三通","DN150*32*150","SFGS-000086","技术规格书-2","个",{"$f":"SUMIF(备料计划录入信息表!D:D,备料计划控制表!D92,备料计划录入信息表!I:I)","v":0},{"$f":"SUMIF([1]合同录入信息表!$E:$E,D92,[1]合同录入信息表!$I:$I)","v":{"$error":"#VALUE!"}},{"$f":"SUMIF([2]供货通知录入信息表!$F:$F,D92,[2]供货通知录入信息表!$K:$K)","v":{"$error":"#VALUE!"}},{"$f":"SUMIF([3]签收明细表!$H:$H,D92,[3]签收明细表!$K:$K)","v":{"$error":"#VALUE!"}},{"$f":"SUMIF([4]领料录入信息表!$F:$F,D92,[4]领料录入信息表!$J:$J)","v":{"$error":"#VALUE!"}}]
[91,"沟槽式螺纹机械三通","DN150*40*150","SFGS-000087","技术规格书-2","个",{"$f":"SUMIF(备料计划录入信息表!D:D,备料计划控制表!D93,备料计划录入信息表!I:I)","v":0},{"$f":"SUMIF([1]合同录入信息表!$E:$E,D93,[1]合同录入信息表!$I:$I)","v":{"$error":"#VALUE!"}},{"$f":"SUMIF([2]供货通知录入信息表!$F:$F,D93,[2]供货通知录入信息表!$K:$K)","v":{"$error":"#VALUE!"}},{"$f":"SUMIF([3]签收明细表!$H:$H,D93,[3]签收明细表!$K:$K)","v":{"$error":"#VALUE!"}},{"$f":"SUMIF([4]领料录入信息表!$F:$F,D93,[4]领料录入信息表!$J:$J)","v":{"$error":"#VALUE!"}}]
[92,"沟槽式螺纹机械四通","DN100*40*100*40","SFGS-000088","技术规格书-2","个",{"$f":"SUMIF(备料计划录入信息表!D:D,备料计划控制表!D94,备料计划录入信息表!I:I)","v":0},{"$f":"SUMIF([1]合同录入信息表!$E:$E,D94,[1]合同录入信息表!$I:$I)","v":{"$error":"#VALUE!"}},{"$f":"SUMIF([2]供货通知录入信息表!$F:$F,D94,[2]供货通知录入信息表!$K:$K)","v":{"$error":"#VALUE!"}},{"$f":"SUMIF([3]签收明细表!$H:$H,D94,[3]签收明细表!$K:$K)","v":{"$error":"#VALUE!"}},{"$f":"SUMIF([4]领料录入信息表!$F:$F,D94,[4]领料录入信息表!$J:$J)","v":{"$error":"#VALUE!"}}]
[93,"沟槽式螺纹机械四通","DN100*65*100*65","SFGS-000089","技术规格书-2","个",{"$f":"SUMIF(备料计划录入信息表!D:D,备料计划控制表!D95,备料计划录入信息表!I:I)","v":0},{"$f":"SUMIF([1]合同录入信息表!$E:$E,D95,[1]合同录入信息表!$I:$I)","v":{"$error":"#VALUE!"}},{"$f":"SUMIF([2]供货通知录入信息表!$F:$F,D95,[2]供货通知录入信息表!$K:$K)","v":{"$error":"#VALUE!"}},{"$f":"SUMIF([3]签收明细表!$H:$H,D95,[3]签收明细表!$K:$K)","v":{"$error":"#VALUE!"}},{"$f":"SUMIF([4]领料录入信息表!$F:$F,D95,[4]领料录入信息表!$J:$J)","v":{"$error":"#VALUE!"}}]
[94,"沟槽式螺纹机械四通","DN100*80*100*80","SFGS-000090","技术规格书-2","个",{"$f":"SUMIF(备料计划录入信息表!D:D,备料计划控制表!D96,备料计划录入信息表!I:I)","v":0},{"$f":"SUMIF([1]合同录入信息表!$E:$E,D96,[1]合同录入信息表!$I:$I)","v":{"$error":"#VALUE!"}},{"$f":"SUMIF([2]供货通知录入信息表!$F:$F,D96,[2]供货通知录入信息表!$K:$K)","v":{"$error":"#VALUE!"}},{"$f":"SUMIF([3]签收明细表!$H:$H,D96,[3]签收明细表!$K:$K)","v":{"$error":"#VALUE!"}},{"$f":"SUMIF([4]领料录入信息表!$F:$F,D96,[4]领料录入信息表!$J:$J)","v":{"$error":"#VALUE!"}}]
[95,"沟槽式螺纹机械四通","DN150*40*150*40","SFGS-000091","技术规格书-2","个",{"$f":"SUMIF(备料计划录入信息表!D:D,备料计划控制表!D97,备料计划录入信息表!I:I)","v":0},{"$f":"SUMIF([1]合同录入信息表!$E:$E,D97,[1]合同录入信息表!$I:$I)","v":{"$error":"#VALUE!"}},{"$f":"SUMIF([2]供货通知录入信息表!$F:$F,D97,[2]供货通知录入信息表!$K:$K)","v":{"$error":"#VALUE!"}},{"$f":"SUMIF([3]签收明细表!$H:$H,D97,[3]签收明细表!$K:$K)","v":{"$error":"#VALUE!"}},{"$f":"SUMIF([4]领料录入信息表!$F:$F,D97,[4]领料录入信息表!$J:$J)","v":{"$error":"#VALUE!"}}]
[96,"沟槽式螺纹机械四通","DN150*65*150*65","SFGS-000092","技术规格书-2","个",{"$f":"SUMIF(备料计划录入信息表!D:D,备料计划控制表!D98,备料计划录入信息表!I:I)","v":0},{"$f":"SUMIF([1]合同录入信息表!$E:$E,D98,[1]合同录入信息表!$I:$I)","v":{"$error":"#VALUE!"}},{"$f":"SUMIF([2]供货通知录入信息表!$F:$F,D98,[2]供货通知录入信息表!$K:$K)","v":{"$error":"#VALUE!"}},{"$f":"SUMIF([3]签收明细表!$H:$H,D98,[3]签收明细表!$K:$K)","v":{"$error":"#VALUE!"}},{"$f":"SUMIF([4]领料录入信息表!$F:$F,D98,[4]领料录入信息表!$J:$J)","v":{"$error":"#VALUE!"}}]
[97,"沟槽式螺纹机械四通","DN150*80*150*80","SFGS-000093","技术规格书-2","个",{"$f":"SUMIF(备料计划录入信息表!D:D,备料计划控制表!D99,备料计划录入信息表!I:I)","v":0},{"$f":"SUMIF([1]合同录入信息表!$E:$E,D99,[1]合同录入信息表!$I:$I)","v":{"$error":"#VALUE!"}},{"$f":"SUMIF([2]供货通知录入信息表!$F:$F,D99,[2]供货通知录入信息表!$K:$K)","v":{"$error":"#VALUE!"}},{"$f":"SUMIF([3]签收明细表!$H:$H,D99,[3]签收明细表!$K:$K)","v":{"$error":"#VALUE!"}},{"$f":"SUMIF([4]领料录入信息表!$F:$F,D99,[4]领料录入信息表!$J:$J)","v":{"$error":"#VALUE!"}}]
[98,"沟槽式螺纹异径管箍","DN150*40","SFGS-000094","技术规格书-2","个",{"$f":"SUMIF(备料计划录入信息表!D:D,备料计划控制表!D100,备料计划录入信息表!I:I)","v":0},{"$f":"SUMIF([1]合同录入信息表!$E:$E,D100,[1]合同录入信息表!$I:$I)","v":{"$error":"#VALUE!"}},{"$f":"SUMIF([2]供货通知录入信息表!$F:$F,D100,[2]供货通知录入信息表!$K:$K)","v":{"$error":"#VALUE!"}},{"$f":"SUMIF([3]签收明细表!$H:$H,D100,[3]签收明细表!$K:$K)","v":{"$error":"#VALUE!"}},{"$f":"SUMIF([4]领料录入信息表!$F:$F,D100,[4]领料录入信息表!$J:$J)","v":{"$error":"#VALUE!"}}]
[99,"沟槽式螺纹异径管箍","DN100*65","SFGS-000095","技术规格书-2","个",{"$f":"SUMIF(备料计划录入信息表!D:D,备料计划控制表!D101,备料计划录入信息表!I:I)","v":0},{"$f":"SUMIF([1]合同录入信息表!$E:$E,D101,[1]合同录入信息表!$I:$I)","v":{"$error":"#VALUE!"}},{"$f":"SUMIF([2]供货通知录入信息表!$F:$F,D101,[2]供货通知录入信息表!$K:$K)","v":{"$error":"#VALUE!"}},{"$f":"SUMIF([3]签收明细表!$H:$H,D101,[3]签收明细表!$K:$K)","v":{"$error":"#VALUE!"}},{"$f":"SUMIF([4]领料录入信息表!$F:$F,D101,[4]领料录入信息表!$J:$J)","v":{"$error":"#VALUE!"}}]
[100,"沟槽式螺纹异径管箍","DN100*80","SFGS-000096","技术规格书-2","个",{"$f":"SUMIF(备料计划录入信息表!D:D,备料计划控制表!D102,备料计划录入信息表!I:I)","v":0},{"$f":"SUMIF([1]合同录入信息表!$E:$E,D102,[1]合同录入信息表!$I:$I)","v":{"$error":"#VALUE!"}},{"$f":"SUMIF([2]供货通知录入信息表!$F:$F,D102,[2]供货通知录入信息表!$K:$K)","v":{"$error":"#VALUE!"}},{"$f":"SUMIF([3]签收明细表!$H:$H,D102,[3]签收明细表!$K:$K)","v":{"$error":"#VALUE!"}},{"$f":"SUMIF([4]领料录入信息表!$F:$F,D102,[4]领料录入信息表!$J:$J)","v":{"$error":"#VALUE!"}}]
[101,"沟槽式异径管箍","DN150*100","SFGS-000097","技术规格书-2","个",{"$f":"SUMIF(备料计划录入信息表!D:D,备料计划控制表!D103,备料计划录入信息表!I:I)","v":0},{"$f":"SUMIF([1]合同录入信息表!$E:$E,D103,[1]合同录入信息表!$I:$I)","v":{"$error":"#VALUE!"}},{"$f":"SUMIF([2]供货通知录入信息表!$F:$F,D103,[2]供货通知录入信息表!$K:$K)","v":{"$error":"#VALUE!"}},{"$f":"SUMIF([3]签收明细表!$H:$H,D103,[3]签收明细表!$K:$K)","v":{"$error":"#VALUE!"}},{"$f":"SUMIF([4]领料录入信息表!$F:$F,D103,[4]领料录入信息表!$J:$J)","v":{"$error":"#VALUE!"}}]
[102,"沟槽式90°弯头","DN150","SFGS-000098","技术规格书-2","个",{"$f":"SUMIF(备料计划录入信息表!D:D,备料计划控制表!D104,备料计划录入信息表!I:I)","v":0},{"$f":"SUMIF([1]合同录入信息表!$E:$E,D104,[1]合同录入信息表!$I:$I)","v":{"$error":"#VALUE!"}},{"$f":"SUMIF([2]供货通知录入信息表!$F:$F,D104,[2]供货通知录入信息表!$K:$K)","v":{"$error":"#VALUE!"}},{"$f":"SUMIF([3]签收明细表!$H:$H,D104,[3]签收明细表!$K:$K)","v":{"$error":"#VALUE!"}},{"$f":"SUMIF([4]领料录入信息表!$F:$F,D104,[4]领料录入信息表!$J:$J)","v":{"$error":"#VALUE!"}}]
[103,"沟槽法兰","DN150","SFGS-000099","技术规格书-2","个",{"$f":"SUMIF(备料计划录入信息表!D:D,备料计划控制表!D105,备料计划录入信息表!I:I)","v":0},{"$f":"SUMIF([1]合同录入信息表!$E:$E,D105,[1]合同录入信息表!$I:$I)","v":{"$error":"#VALUE!"}},{"$f":"SUMIF([2]供货通知录入信息表!$F:$F,D105,[2]供货通知录入信息表!$K:$K)","v":{"$error":"#VALUE!"}},{"$f":"SUMIF([3]签收明细表!$H:$H,D105,[3]签收明细表!$K:$K)","v":{"$error":"#VALUE!"}},{"$f":"SUMIF([4]领料录入信息表!$F:$F,D105,[4]领料录入信息表!$J:$J)","v":{"$error":"#VALUE!"}}]
[104,"卡箍","DN100","SFGS-000100","技术规格书-2","个",{"$f":"SUMIF(备料计划录入信息表!D:D,备料计划控制表!D106,备料计划录入信息表!I:I)","v":0},{"$f":"SUMIF([1]合同录入信息表!$E:$E,D106,[1]合同录入信息表!$I:$I)","v":{"$error":"#VALUE!"}},{"$f":"SUMIF([2]供货通知录入信息表!$F:$F,D106,[2]供货通知录入信息表!$K:$K)","v":{"$error":"#VALUE!"}},{"$f":"SUMIF([3]签收明细表!$H:$H,D106,[3]签收明细表!$K:$K)","v":{"$error":"#VALUE!"}},{"$f":"SUMIF([4]领料录入信息表!$F:$F,D106,[4]领料录入信息表!$J:$J)","v":{"$error":"#VALUE!"}}]
[105,"卡箍","DN150","SFGS-000101","技术规格书-2","个",{"$f":"SUMIF(备料计划录入信息表!D:D,备料计划控制表!D107,备料计划录入信息表!I:I)","v":0},{"$f":"SUMIF([1]合同录入信息表!$E:$E,D107,[1]合同录入信息表!$I:$I)","v":{"$error":"#VALUE!"}},{"$f":"SUMIF([2]供货通知录入信息表!$F:$F,D107,[2]供货通知录入信息表!$K:$K)","v":{"$error":"#VALUE!"}},{"$f":"SUMIF([3]签收明细表!$H:$H,D107,[3]签收明细表!$K:$K)","v":{"$error":"#VALUE!"}},{"$f":"SUMIF([4]领料录入信息表!$F:$F,D107,[4]领料录入信息表!$J:$J)","v":{"$error":"#VALUE!"}}]
[106,"镀锌螺栓（配螺帽、一个弹簧垫、2个平垫）","M18*150","SFGS-000102","按照11号线之前标准","套",{"$f":"SUMIF(备料计划录入信息表!D:D,备料计划控制表!D108,备料计划录入信息表!I:I)","v":0},{"$f":"SUMIF([1]合同录入信息表!$E:$E,D108,[1]合同录入信息表!$I:$I)","v":{"$error":"#VALUE!"}},{"$f":"SUMIF([2]供货通知录入信息表!$F:$F,D108,[2]供货通知录入信息表!$K:$K)","v":{"$error":"#VALUE!"}},{"$f":"SUMIF([3]签收明细表!$H:$H,D108,[3]签收明细表!$K:$K)","v":{"$error":"#VALUE!"}},{"$f":"SUMIF([4]领料录入信息表!$F:$F,D108,[4]领料录入信息表!$J:$J)","v":{"$error":"#VALUE!"}}]
[107,"法兰密封橡胶垫","DN150","SFGS-000103","按照11号线之前标准","个",{"$f":"SUMIF(备料计划录入信息表!D:D,备料计划控制表!D109,备料计划录入信息表!I:I)","v":0},{"$f":"SUMIF([1]合同录入信息表!$E:$E,D109,[1]合同录入信息表!$I:$I)","v":{"$error":"#VALUE!"}},{"$f":"SUMIF([2]供货通知录入信息表!$F:$F,D109,[2]供货通知录入信息表!$K:$K)","v":{"$error":"#VALUE!"}},{"$f":"SUMIF([3]签收明细表!$H:$H,D109,[3]签收明细表!$K:$K)","v":{"$error":"#VALUE!"}},{"$f":"SUMIF([4]领料录入信息表!$F:$F,D109,[4]领料录入信息表!$J:$J)","v":{"$error":"#VALUE!"}}]
[108,"信号蝶阀","DN150","SFGS-000104","按照11号线之前标准","个",{"$f":"SUMIF(备料计划录入信息表!D:D,备料计划控制表!D110,备料计划录入信息表!I:I)","v":0},{"$f":"SUMIF([1]合同录入信息表!$E:$E,D110,[1]合同录入信息表!$I:$I)","v":{"$error":"#VALUE!"}},{"$f":"SUMIF([2]供货通知录入信息表!$F:$F,D110,[2]供货通知录入信息表!$K:$K)","v":{"$error":"#VALUE!"}},{"$f":"SUMIF([3]签收明细表!$H:$H,D110,[3]签收明细表!$K:$K)","v":{"$error":"#VALUE!"}},{"$f":"SUMIF([4]领料录入信息表!$F:$F,D110,[4]领料录入信息表!$J:$J)","v":{"$error":"#VALUE!"}}]
[109,"水流指示器(马鞍形）","DN150","SFGS-000105","按照11号线之前标准","个",{"$f":"SUMIF(备料计划录入信息表!D:D,备料计划控制表!D111,备料计划录入信息表!I:I)","v":0},{"$f":"SUMIF([1]合同录入信息表!$E:$E,D111,[1]合同录入信息表!$I:$I)","v":{"$error":"#VALUE!"}},{"$f":"SUMIF([2]供货通知录入信息表!$F:$F,D111,[2]供货通知录入信息表!$K:$K)","v":{"$error":"#VALUE!"}},{"$f":"SUMIF([3]签收明细表!$H:$H,D111,[3]签收明细表!$K:$K)","v":{"$error":"#VALUE!"}},{"$f":"SUMIF([4]领料录入信息表!$F:$F,D111,[4]领料录入信息表!$J:$J)","v":{"$error":"#VALUE!"}}]
[110,"球阀","DN15","SFGS-000106","按照11号线之前标准","个",{"$f":"SUMIF(备料计划录入信息表!D:D,备料计划控制表!D112,备料计划录入信息表!I:I)","v":0},{"$f":"SUMIF([1]合同录入信息表!$E:$E,D112,[1]合同录入信息表!$I:$I)","v":{"$error":"#VALUE!"}},{"$f":"SUMIF([2]供货通知录入信息表!$F:$F,D112,[2]供货通知录入信息表!$K:$K)","v":{"$error":"#VALUE!"}},{"$f":"SUMIF([3]签收明细表!$H:$H,D112,[3]签收明细表!$K:$K)","v":{"$error":"#VALUE!"}},{"$f":"SUMIF([4]领料录入信息表!$F:$F,D112,[4]领料录入信息表!$J:$J)","v":{"$error":"#VALUE!"}}]
[111,"球阀","DN25","SFGS-000107","按照11号线之前标准","个",{"$f":"SUMIF(备料计划录入信息表!D:D,备料计划控制表!D113,备料计划录入信息表!I:I)","v":0},{"$f":"SUMIF([1]合同录入信息表!$E:$E,D113,[1]合同录入信息表!$I:$I)","v":{"$error":"#VALUE!"}},{"$f":"SUMIF([2]供货通知录入信息表!$F:$F,D113,[2]供货通知录入信息表!$K:$K)","v":{"$error":"#VALUE!"}},{"$f":"SUMIF([3]签收明细表!$H:$H,D113,[3]签收明细表!$K:$K)","v":{"$error":"#VALUE!"}},{"$f":"SUMIF([4]领料录入信息表!$F:$F,D113,[4]领料录入信息表!$J:$J)","v":{"$error":"#VALUE!"}}]
[112,"球阀","DN20","SFGS-000108","按照11号线之前标准","个",{"$f":"SUMIF(备料计划录入信息表!D:D,备料计划控制表!D114,备料计划录入信息表!I:I)","v":0},{"$f":"SUMIF([1]合同录入信息表!$E:$E,D114,[1]合同录入信息表!$I:$I)","v":{"$error":"#VALUE!"}},{"$f":"SUMIF([2]供货通知录入信息表!$F:$F,D114,[2]供货通知录入信息表!$K:$K)","v":{"$error":"#VALUE!"}},{"$f":"SUMIF([3]签收明细表!$H:$H,D114,[3]签收明细表!$K:$K)","v":{"$error":"#VALUE!"}},{"$f":"SUMIF([4]领料录入信息表!$F:$F,D114,[4]领料录入信息表!$J:$J)","v":{"$error":"#VALUE!"}}]
[113,"压力表","0-1.6MPa","SFGS-000109","按照11号线之前标准","个",{"$f":"SUMIF(备料计划录入信息表!D:D,备料计划控制表!D115,备料计划录入信息表!I:I)","v":0},{"$f":"SUMIF([1]合同录入信息表!$E:$E,D115,[1]合同录入信息表!$I:$I)","v":{"$error":"#VALUE!"}},{"$f":"SUMIF([2]供货通知录入信息表!$F:$F,D115,[2]供货通知录入信息表!$K:$K)","v":{"$error":"#VALUE!"}},{"$f":"SUMIF([3]签收明细表!$H:$H,D115,[3]签收明细表!$K:$K)","v":{"$error":"#VALUE!"}},{"$f":"SUMIF([4]领料录入信息表!$F:$F,D115,[4]领料录入信息表!$J:$J)","v":{"$error":"#VALUE!"}}]
[114,"表弯","DN15","SFGS-000110","按照11号线之前标准","个",{"$f":"SUMIF(备料计划录入信息表!D:D,备料计划控制表!D116,备料计划录入信息表!I:I)","v":0},{"$f":"SUMIF([1]合同录入信息表!$E:$E,D116,[1]合同录入信息表!$I:$I)","v":{"$error":"#VALUE!"}},{"$f":"SUMIF([2]供货通知录入信息表!$F:$F,D116,[2]供货通知录入信息表!$K:$K)","v":{"$error":"#VALUE!"}},{"$f":"SUMIF([3]签收明细表!$H:$H,D116,[3]签收明细表!$K:$K)","v":{"$error":"#VALUE!"}},{"$f":"SUMIF([4]领料录入信息表!$F:$F,D116,[4]领料录入信息表!$J:$J)","v":{"$error":"#VALUE!"}}]
[115,"自动排气阀","DN20","SFGS-000111","按照11号线之前标准","个",{"$f":"SUMIF(备料计划录入信息表!D:D,备料计划控制表!D117,备料计划录入信息表!I:I)","v":0},{"$f":"SUMIF([1]合同录入信息表!$E:$E,D117,[1]合同录入信息表!$I:$I)","v":{"$error":"#VALUE!"}},{"$f":"SUMIF([2]供货通知录入信息表!$F:$F,D117,[2]供货通知录入信息表!$K:$K)","v":{"$error":"#VALUE!"}},{"$f":"SUMIF([3]签收明细表!$H:$H,D117,[3]签收明细表!$K:$K)","v":{"$error":"#VALUE!"}},{"$f":"SUMIF([4]领料录入信息表!$F:$F,D117,[4]领料录入信息表!$J:$J)","v":{"$error":"#VALUE!"}}]
[116,"直立型喷头","ZSTZ-15/68(K=80 DN15)","SFGS-000112","按照11号线之前标准","个",{"$f":"SUMIF(备料计划录入信息表!D:D,备料计划控制表!D118,备料计划录入信息表!I:I)","v":0},{"$f":"SUMIF([1]合同录入信息表!$E:$E,D118,[1]合同录入信息表!$I:$I)","v":{"$error":"#VALUE!"}},{"$f":"SUMIF([2]供货通知录入信息表!$F:$F,D118,[2]供货通知录入信息表!$K:$K)","v":{"$error":"#VALUE!"}},{"$f":"SUMIF([3]签收明细表!$H:$H,D118,[3]签收明细表!$K:$K)","v":{"$error":"#VALUE!"}},{"$f":"SUMIF([4]领料录入信息表!$F:$F,D118,[4]领料录入信息表!$J:$J)","v":{"$error":"#VALUE!"}}]
[117,"直立型喷头","ZSTZ-20/68(K=115 DN20)","SFGS-000113","按照11号线之前标准","个",{"$f":"SUMIF(备料计划录入信息表!D:D,备料计划控制表!D119,备料计划录入信息表!I:I)","v":0},{"$f":"SUMIF([1]合同录入信息表!$E:$E,D119,[1]合同录入信息表!$I:$I)","v":{"$error":"#VALUE!"}},{"$f":"SUMIF([2]供货通知录入信息表!$F:$F,D119,[2]供货通知录入信息表!$K:$K)","v":{"$error":"#VALUE!"}},{"$f":"SUMIF([3]签收明细表!$H:$H,D119,[3]签收明细表!$K:$K)","v":{"$error":"#VALUE!"}},{"$f":"SUMIF([4]领料录入信息表!$F:$F,D119,[4]领料录入信息表!$J:$J)","v":{"$error":"#VALUE!"}}]
[118,"大红油漆","13公斤/桶","SFGS-000114",null,"桶",{"$f":"SUMIF(备料计划录入信息表!D:D,备料计划控制表!D120,备料计划录入信息表!I:I)","v":0},{"$f":"SUMIF([1]合同录入信息表!$E:$E,D120,[1]合同录入信息表!$I:$I)","v":{"$error":"#VALUE!"}},{"$f":"SUMIF([2]供货通知录入信息表!$F:$F,D120,[2]供货通知录入信息表!$K:$K)","v":{"$error":"#VALUE!"}},{"$f":"SUMIF([3]签收明细表!$H:$H,D120,[3]签收明细表!$K:$K)","v":{"$error":"#VALUE!"}},{"$f":"SUMIF([4]领料录入信息表!$F:$F,D120,[4]领料录入信息表!$J:$J)","v":{"$error":"#VALUE!"}}]
[119,"木跳板","2m(长）*5cm(厚）*20cm(宽）","SFGS-000115",null,"块",{"$f":"SUMIF(备料计划录入信息表!D:D,备料计划控制表!D121,备料计划录入信息表!I:I)","v":0},{"$f":"SUMIF([1]合同录入信息表!$E:$E,D121,[1]合同录入信息表!$I:$I)","v":{"$error":"#VALUE!"}},{"$f":"SUMIF([2]供货通知录入信息表!$F:$F,D121,[2]供货通知录入信息表!$K:$K)","v":{"$error":"#VALUE!"}},{"$f":"SUMIF([3]签收明细表!$H:$H,D121,[3]签收明细表!$K:$K)","v":{"$error":"#VALUE!"}},{"$f":"SUMIF([4]领料录入信息表!$F:$F,D121,[4]领料录入信息表!$J:$J)","v":{"$error":"#VALUE!"}}]
[120,"铜内外丝直接","DN20","SFGS-000116",null,"个",{"$f":"SUMIF(备料计划录入信息表!D:D,备料计划控制表!D122,备料计划录入信息表!I:I)","v":0},{"$f":"SUMIF([1]合同录入信息表!$E:$E,D122,[1]合同录入信息表!$I:$I)","v":{"$error":"#VALUE!"}},{"$f":"SUMIF([2]供货通知录入信息表!$F:$F,D122,[2]供货通知录入信息表!$K:$K)","v":{"$error":"#VALUE!"}},{"$f":"SUMIF([3]签收明细表!$H:$H,D122,[3]签收明细表!$K:$K)","v":{"$error":"#VALUE!"}},{"$f":"SUMIF([4]领料录入信息表!$F:$F,D122,[4]领料录入信息表!$J:$J)","v":{"$error":"#VALUE!"}}]
[121,"不锈钢扎带","1米/条（宽度：1cm;厚度：0.05mm)","SFGS-000117",null,"条",{"$f":"SUMIF(备料计划录入信息表!D:D,备料计划控制表!D123,备料计划录入信息表!I:I)","v":0},{"$f":"SUMIF([1]合同录入信息表!$E:$E,D123,[1]合同录入信息表!$I:$I)","v":{"$error":"#VALUE!"}},{"$f":"SUMIF([2]供货通知录入信息表!$F:$F,D123,[2]供货通知录入信息表!$K:$K)","v":{"$error":"#VALUE!"}},{"$f":"SUMIF([3]签收明细表!$H:$H,D123,[3]签收明细表!$K:$K)","v":{"$error":"#VALUE!"}},{"$f":"SUMIF([4]领料录入信息表!$F:$F,D123,[4]领料录入信息表!$J:$J)","v":{"$error":"#VALUE!"}}]
[122,"不锈钢扎带","0.5米/条（宽度：1cm;厚度：0.05mm)","SFGS-000118",null,"条",{"$f":"SUMIF(备料计划录入信息表!D:D,备料计划控制表!D124,备料计划录入信息表!I:I)","v":0},{"$f":"SUMIF([1]合同录入信息表!$E:$E,D124,[1]合同录入信息表!$I:$I)","v":{"$error":"#VALUE!"}},{"$f":"SUMIF([2]供货通知录入信息表!$F:$F,D124,[2]供货通知录入信息表!$K:$K)","v":{"$error":"#VALUE!"}},{"$f":"SUMIF([3]签收明细表!$H:$H,D124,[3]签收明细表!$K:$K)","v":{"$error":"#VALUE!"}},{"$f":"SUMIF([4]领料录入信息表!$F:$F,D124,[4]领料录入信息表!$J:$J)","v":{"$error":"#VALUE!"}}]
[123,"膨胀螺丝","M6*8","SFGS-000119",null,"盒",{"$f":"SUMIF(备料计划录入信息表!D:D,备料计划控制表!D125,备料计划录入信息表!I:I)","v":0},{"$f":"SUMIF([1]合同录入信息表!$E:$E,D125,[1]合同录入信息表!$I:$I)","v":{"$error":"#VALUE!"}},{"$f":"SUMIF([2]供货通知录入信息表!$F:$F,D125,[2]供货通知录入信息表!$K:$K)","v":{"$error":"#VALUE!"}},{"$f":"SUMIF([3]签收明细表!$H:$H,D125,[3]签收明细表!$K:$K)","v":{"$error":"#VALUE!"}},{"$f":"SUMIF([4]领料录入信息表!$F:$F,D125,[4]领料录入信息表!$J:$J)","v":{"$error":"#VALUE!"}}]
[124,"板牙",null,"SFGS-000120",null,"付",{"$f":"SUMIF(备料计划录入信息表!D:D,备料计划控制表!D126,备料计划录入信息表!I:I)","v":0},{"$f":"SUMIF([1]合同录入信息表!$E:$E,D126,[1]合同录入信息表!$I:$I)","v":{"$error":"#VALUE!"}},{"$f":"SUMIF([2]供货通知录入信息表!$F:$F,D126,[2]供货通知录入信息表!$K:$K)","v":{"$error":"#VALUE!"}},{"$f":"SUMIF([3]签收明细表!$H:$H,D126,[3]签收明细表!$K:$K)","v":{"$error":"#VALUE!"}},{"$f":"SUMIF([4]领料录入信息表!$F:$F,D126,[4]领料录入信息表!$J:$J)","v":{"$error":"#VALUE!"}}]
[125,"电动球阀","BV03G2D32SA/220","SFGS-000121",null,"个",{"$f":"SUMIF(备料计划录入信息表!D:D,备料计划控制表!D127,备料计划录入信息表!I:I)","v":0},{"$f":"SUMIF([1]合同录入信息表!$E:$E,D127,[1]合同录入信息表!$I:$I)","v":{"$error":"#VALUE!"}},{"$f":"SUMIF([2]供货通知录入信息表!$F:$F,D127,[2]供货通知录入信息表!$K:$K)","v":{"$error":"#VALUE!"}},{"$f":"SUMIF([3]签收明细表!$H:$H,D127,[3]签收明细表!$K:$K)","v":{"$error":"#VALUE!"}},{"$f":"SUMIF([4]领料录入信息表!$F:$F,D127,[4]领料录入信息表!$J:$J)","v":{"$error":"#VALUE!"}}]
[126,"铜线耳","240mm2（长）","SFGS-000122",null,"个",{"$f":"SUMIF(备料计划录入信息表!D:D,备料计划控制表!D128,备料计划录入信息表!I:I)","v":0},{"$f":"SUMIF([1]合同录入信息表!$E:$E,D128,[1]合同录入信息表!$I:$I)","v":{"$error":"#VALUE!"}},{"$f":"SUMIF([2]供货通知录入信息表!$F:$F,D128,[2]供货通知录入信息表!$K:$K)","v":{"$error":"#VALUE!"}},{"$f":"SUMIF([3]签收明细表!$H:$H,D128,[3]签收明细表!$K:$K)","v":{"$error":"#VALUE!"}},{"$f":"SUMIF([4]领料录入信息表!$F:$F,D128,[4]领料录入信息表!$J:$J)","v":{"$error":"#VALUE!"}}]
[127,"铜线耳","240mm2（短）","SFGS-000123",null,"个",{"$f":"SUMIF(备料计划录入信息表!D:D,备料计划控制表!D129,备料计划录入信息表!I:I)","v":0},{"$f":"SUMIF([1]合同录入信息表!$E:$E,D129,[1]合同录入信息表!$I:$I)","v":{"$error":"#VALUE!"}},{"$f":"SUMIF([2]供货通知录入信息表!$F:$F,D129,[2]供货通知录入信息表!$K:$K)","v":{"$error":"#VALUE!"}},{"$f":"SUMIF([3]签收明细表!$H:$H,D129,[3]签收明细表!$K:$K)","v":{"$error":"#VALUE!"}},{"$f":"SUMIF([4]领料录入信息表!$F:$F,D129,[4]领料录入信息表!$J:$J)","v":{"$error":"#VALUE!"}}]
[128,"铜线耳","120mm2（长）","SFGS-000124",null,"个",{"$f":"SUMIF(备料计划录入信息表!D:D,备料计划控制表!D130,备料计划录入信息表!I:I)","v":0},{"$f":"SUMIF([1]合同录入信息表!$E:$E,D130,[1]合同录入信息表!$I:$I)","v":{"$error":"#VALUE!"}},{"$f":"SUMIF([2]供货通知录入信息表!$F:$F,D130,[2]供货通知录入信息表!$K:$K)","v":{"$error":"#VALUE!"}},{"$f":"SUMIF([3]签收明细表!$H:$H,D130,[3]签收明细表!$K:$K)","v":{"$error":"#VALUE!"}},{"$f":"SUMIF([4]领料录入信息表!$F:$F,D130,[4]领料录入信息表!$J:$J)","v":{"$error":"#VALUE!"}}]
[129,"铜线耳","120mm2（短）","SFGS-000125",null,"个",{"$f":"SUMIF(备料计划录入信息表!D:D,备料计划控制表!D131,备料计划录入信息表!I:I)","v":0},{"$f":"SUMIF([1]合同录入信息表!$E:$E,D131,[1]合同录入信息表!$I:$I)","v":{"$error":"#VALUE!"}},{"$f":"SUMIF([2]供货通知录入信息表!$F:$F,D131,[2]供货通知录入信息表!$K:$K)","v":{"$error":"#VALUE!"}},{"$f":"SUMIF([3]签收明细表!$H:$H,D131,[3]签收明细表!$K:$K)","v":{"$error":"#VALUE!"}},{"$f":"SUMIF([4]领料录入信息表!$F:$F,D131,[4]领料录入信息表!$J:$J)","v":{"$error":"#VALUE!"}}]
[130,"PVC排水直接","Φ25","SFGS-000126",null,"个",{"$f":"SUMIF(备料计划录入信息表!D:D,备料计划控制表!D132,备料计划录入信息表!I:I)","v":0},{"$f":"SUMIF([1]合同录入信息表!$E:$E,D132,[1]合同录入信息表!$I:$I)","v":{"$error":"#VALUE!"}},{"$f":"SUMIF([2]供货通知录入信息表!$F:$F,D132,[2]供货通知录入信息表!$K:$K)","v":{"$error":"#VALUE!"}},{"$f":"SUMIF([3]签收明细表!$H:$H,D132,[3]签收明细表!$K:$K)","v":{"$error":"#VALUE!"}},{"$f":"SUMIF([4]领料录入信息表!$F:$F,D132,[4]领料录入信息表!$J:$J)","v":{"$error":"#VALUE!"}}]
[131,"水泥",null,"SFGS-000127",null,"包",{"$f":"SUMIF(备料计划录入信息表!D:D,备料计划控制表!D133,备料计划录入信息表!I:I)","v":0},{"$f":"SUMIF([1]合同录入信息表!$E:$E,D133,[1]合同录入信息表!$I:$I)","v":{"$error":"#VALUE!"}},{"$f":"SUMIF([2]供货通知录入信息表!$F:$F,D133,[2]供货通知录入信息表!$K:$K)","v":{"$error":"#VALUE!"}},{"$f":"SUMIF([3]签收明细表!$H:$H,D133,[3]签收明细表!$K:$K)","v":{"$error":"#VALUE!"}},{"$f":"SUMIF([4]领料录入信息表!$F:$F,D133,[4]领料录入信息表!$J:$J)","v":{"$error":"#VALUE!"}}]
[132,"橡塑保温板材","厚度25mm（容重48kg/m3)","SFGS-000128","技术规格书-3","平方",{"$f":"SUMIF(备料计划录入信息表!D:D,备料计划控制表!D134,备料计划录入信息表!I:I)","v":0},{"$f":"SUMIF([1]合同录入信息表!$E:$E,D134,[1]合同录入信息表!$I:$I)","v":{"$error":"#VALUE!"}},{"$f":"SUMIF([2]供货通知录入信息表!$F:$F,D134,[2]供货通知录入信息表!$K:$K)","v":{"$error":"#VALUE!"}},{"$f":"SUMIF([3]签收明细表!$H:$H,D134,[3]签收明细表!$K:$K)","v":{"$error":"#VALUE!"}},{"$f":"SUMIF([4]领料录入信息表!$F:$F,D134,[4]领料录入信息表!$J:$J)","v":{"$error":"#VALUE!"}}]
[133,"铝箔胶带",null,"SFGS-000129",null,"卷",{"$f":"SUMIF(备料计划录入信息表!D:D,备料计划控制表!D135,备料计划录入信息表!I:I)","v":0},{"$f":"SUMIF([1]合同录入信息表!$E:$E,D135,[1]合同录入信息表!$I:$I)","v":{"$error":"#VALUE!"}},{"$f":"SUMIF([2]供货通知录入信息表!$F:$F,D135,[2]供货通知录入信息表!$K:$K)","v":{"$error":"#VALUE!"}},{"$f":"SUMIF([3]签收明细表!$H:$H,D135,[3]签收明细表!$K:$K)","v":{"$error":"#VALUE!"}},{"$f":"SUMIF([4]领料录入信息表!$F:$F,D135,[4]领料录入信息表!$J:$J)","v":{"$error":"#VALUE!"}}]
[134,"镀锌线管直接","Φ25","SFGS-000130",null,"个",{"$f":"SUMIF(备料计划录入信息表!D:D,备料计划控制表!D136,备料计划录入信息表!I:I)","v":0},{"$f":"SUMIF([1]合同录入信息表!$E:$E,D136,[1]合同录入信息表!$I:$I)","v":{"$error":"#VALUE!"}},{"$f":"SUMIF([2]供货通知录入信息表!$F:$F,D136,[2]供货通知录入信息表!$K:$K)","v":{"$error":"#VALUE!"}},{"$f":"SUMIF([3]签收明细表!$H:$H,D136,[3]签收明细表!$K:$K)","v":{"$error":"#VALUE!"}},{"$f":"SUMIF([4]领料录入信息表!$F:$F,D136,[4]领料录入信息表!$J:$J)","v":{"$error":"#VALUE!"}}]
[135,"离墙码","Φ25","SFGS-000131",null,"个",{"$f":"SUMIF(备料计划录入信息表!D:D,备料计划控制表!D137,备料计划录入信息表!I:I)","v":0},{"$f":"SUMIF([1]合同录入信息表!$E:$E,D137,[1]合同录入信息表!$I:$I)","v":{"$error":"#VALUE!"}},{"$f":"SUMIF([2]供货通知录入信息表!$F:$F,D137,[2]供货通知录入信息表!$K:$K)","v":{"$error":"#VALUE!"}},{"$f":"SUMIF([3]签收明细表!$H:$H,D137,[3]签收明细表!$K:$K)","v":{"$error":"#VALUE!"}},{"$f":"SUMIF([4]领料录入信息表!$F:$F,D137,[4]领料录入信息表!$J:$J)","v":{"$error":"#VALUE!"}}]
[136,"六角钻尾螺丝","3cm长","SFGS-000132",null,"包",{"$f":"SUMIF(备料计划录入信息表!D:D,备料计划控制表!D138,备料计划录入信息表!I:I)","v":0},{"$f":"SUMIF([1]合同录入信息表!$E:$E,D138,[1]合同录入信息表!$I:$I)","v":{"$error":"#VALUE!"}},{"$f":"SUMIF([2]供货通知录入信息表!$F:$F,D138,[2]供货通知录入信息表!$K:$K)","v":{"$error":"#VALUE!"}},{"$f":"SUMIF([3]签收明细表!$H:$H,D138,[3]签收明细表!$K:$K)","v":{"$error":"#VALUE!"}},{"$f":"SUMIF([4]领料录入信息表!$F:$F,D138,[4]领料录入信息表!$J:$J)","v":{"$error":"#VALUE!"}}]
[137,"玻璃胶（白色）",null,"SFGS-000133",null,"支",{"$f":"SUMIF(备料计划录入信息表!D:D,备料计划控制表!D139,备料计划录入信息表!I:I)","v":0},{"$f":"SUMIF([1]合同录入信息表!$E:$E,D139,[1]合同录入信息表!$I:$I)","v":{"$error":"#VALUE!"}},{"$f":"SUMIF([2]供货通知录入信息表!$F:$F,D139,[2]供货通知录入信息表!$K:$K)","v":{"$error":"#VALUE!"}},{"$f":"SUMIF([3]签收明细表!$H:$H,D139,[3]签收明细表!$K:$K)","v":{"$error":"#VALUE!"}},{"$f":"SUMIF([4]领料录入信息表!$F:$F,D139,[4]领料录入信息表!$J:$J)","v":{"$error":"#VALUE!"}}]
[138,"毛巾",null,"SFGS-000134",null,"条",{"$f":"SUMIF(备料计划录入信息表!D:D,备料计划控制表!D140,备料计划录入信息表!I:I)","v":0},{"$f":"SUMIF([1]合同录入信息表!$E:$E,D140,[1]合同录入信息表!$I:$I)","v":{"$error":"#VALUE!"}},{"$f":"SUMIF([2]供货通知录入信息表!$F:$F,D140,[2]供货通知录入信息表!$K:$K)","v":{"$error":"#VALUE!"}},{"$f":"SUMIF([3]签收明细表!$H:$H,D140,[3]签收明细表!$K:$K)","v":{"$error":"#VALUE!"}},{"$f":"SUMIF([4]领料录入信息表!$F:$F,D140,[4]领料录入信息表!$J:$J)","v":{"$error":"#VALUE!"}}]